BEGIN:VCALENDAR
VERSION:2.0
PRODID:-//wp-events-plugin.com//7.0.5//EN
TZID:Europe/Berlin
X-WR-TIMEZONE:Europe/Berlin
BEGIN:VEVENT
UID:30312@cottbus.de
DTSTART;TZID=Europe/Berlin:20261114T200000
DTEND;TZID=Europe/Berlin:20261114T234500
DTSTAMP:20260420T103400Z
URL:https://cottbus.de/veranstaltungen/wellenrauschen-von-dem-eintauchen-i
 ns-wasser-konzert-cottbus/
SUMMARY:Wellenrauschen – Von dem Eintauchen ins Wasser - Konzert - Cottbu
 s
DESCRIPTION:Wellenbad (Elektroakustische Musik)\, Saunanacht\nIn Kooperatio
 n mit der Lagune Cottbus
ATTACH;FMTTYPE=image/jpeg:https://cottbus.de/wp-content/uploads/2026/04/no
 vember.jpg
CATEGORIES:Cottbus,Einzelveranstaltung,Konzert
LOCATION:Lagune Cottbus GmbH\, Sielower Landstraße 19\, Cottbus\, Brandenb
 urg\,  03044 \, Lausitz\, Deutschland
X-APPLE-STRUCTURED-LOCATION;VALUE=URI;X-ADDRESS=Sielower Landstraße 19\, C
 ottbus\, Brandenburg\,  03044 \, Lausitz\, Deutschland;X-APPLE-RADIUS=100;
 X-TITLE=Lagune Cottbus GmbH:geo:0,0
END:VEVENT
BEGIN:VTIMEZONE
TZID:Europe/Berlin
X-LIC-LOCATION:Europe/Berlin
BEGIN:STANDARD
DTSTART:20261025T020000
TZOFFSETFROM:+0200
TZOFFSETTO:+0100
TZNAME:CET
END:STANDARD
END:VTIMEZONE
END:VCALENDAR