BEGIN:VCALENDAR
VERSION:2.0
PRODID:-//wp-events-plugin.com//7.0.5//EN
TZID:Europe/Berlin
X-WR-TIMEZONE:Europe/Berlin
BEGIN:VEVENT
UID:30313@cottbus.de
DTSTART;TZID=Europe/Berlin:20261220T150000
DTEND;TZID=Europe/Berlin:20261220T170000
DTSTAMP:20260420T103651Z
URL:https://cottbus.de/veranstaltungen/weihnachtssingen-cottbus/
SUMMARY:Weihnachtssingen - Cottbus
DESCRIPTION:Weihnachtschor + gemeinsames Singen
ATTACH;FMTTYPE=image/jpeg:https://cottbus.de/wp-content/uploads/2026/04/al
 les.jpg
CATEGORIES:Cottbus,Einzelveranstaltung,Konzert
LOCATION:Kunsthalle Lausitz\, Güterzufuhrstraße 7\, Cottbus/Chóśebuz\, 
 03046\, Brandenburg\, Deutschland
GEO:51.761902;14.330221
X-APPLE-STRUCTURED-LOCATION;VALUE=URI;X-ADDRESS=Güterzufuhrstraße 7\, Cot
 tbus/Chóśebuz\, 03046\, Brandenburg\, Deutschland;X-APPLE-RADIUS=100;X-T
 ITLE=Kunsthalle Lausitz:geo:51.761902,14.330221
END:VEVENT
BEGIN:VTIMEZONE
TZID:Europe/Berlin
X-LIC-LOCATION:Europe/Berlin
BEGIN:STANDARD
DTSTART:20261025T020000
TZOFFSETFROM:+0200
TZOFFSETTO:+0100
TZNAME:CET
END:STANDARD
END:VTIMEZONE
END:VCALENDAR