BEGIN:VCALENDAR
VERSION:2.0
PRODID:-//wp-events-plugin.com//7.0.5//EN
TZID:Europe/Berlin
X-WR-TIMEZONE:Europe/Berlin
BEGIN:VEVENT
UID:30262@cottbus.de
DTSTART;TZID=Europe/Berlin:20260420T170000
DTEND;TZID=Europe/Berlin:20260420T190000
DTSTAMP:20260420T082324Z
URL:https://cottbus.de/veranstaltungen/vier-minus-drei-obenkino-cottbus/
SUMMARY:VIER MINUS DREI - Obenkino Cottbus
DESCRIPTION:DE\, AT 2026 | 121 Min | FSK: 12 | Regie: Adrian Goiginger | Da
 rstellerInnen: Valerie Pachner\, Robert Stadlober\, Stefanie Reinsperger\,
  Hanno Koffler\, Ronald Zehrfeld\n\nBarbara und ihr Partner Heli führen m
 it ihren beiden Kindern Fini und Thimo ein glückliches und liebevolles Fa
 milienleben. Als professionelle Clowns nehmen sie das Leben nicht zu ernst
  und wissen\, dass man auch über das lachen kann\, was misslingt. Als Bar
 bara wie aus dem Nichts durch einen Unfall ihre Familie verliert\, bricht 
 eine Welt für sie zusammen. Der Verlust lässt sie am Clownsein und dem e
 igenen Lebenssinn zweifeln. Doch Barbara stellt sich ihrem Schicksal. Muti
 g und unkonventionell findet sie ihren Weg\, mit der Trauer umzugehen. Sch
 ritt für Schritt erkennt sie\, dass das Leben trotz allem weitergeht\, we
 nn man es nur wagt\, ihm neu zu begegnen.\n\nMit ihrer gleichnamigen Autob
 iografie landete Barbara Pachl-Eberhart 2010 einen Bestseller: Eindringlic
 h und mit viel Stärke beschreibt sie darin\, wie es ihr nach dem tragisch
 en Tod ihrer Familie gelang\, sich dem Leben neu zu stellen. Nun hat der f
 ür seine sehr persönlichen Filmarbeiten gefeierte Regisseur Adrian Goigi
 nger diese bewegende Lebensgeschichte verfilmt. Sensibel und mit feinem Ge
 spür für seine Charaktere\, inszeniert er die lebendige\, hoffnungsvolle
  Geschichte einer Frau\, die nicht aufgibt.\n\n„Der Film von Adrian Goig
 inger rührt zu Tränen. Dank einer Glanzleistung von Valerie Pachner und 
 Robert Stadlober verlässt man das Kino mit Hoffnung in einem vollen Herze
 n.\nEin 360-Grad-Erlebnis des Menschseins.“\nOberösterreichische Nachri
 chten
ATTACH;FMTTYPE=image/jpeg:https://cottbus.de/wp-content/uploads/2024/12/73
 5e642a7c2e51e222de2d5fb7957c24d6c6e6df50e08d58639ce3e8553d9f86-scaled.jpg
CATEGORIES:Cottbus,Einzelveranstaltung,Film
LOCATION:Obenkino\, Straße der Jugend 16\, Cottbus\, 03046\, Brandenburg\,
  Deutschland
GEO:51.754318;14.333652
X-APPLE-STRUCTURED-LOCATION;VALUE=URI;X-ADDRESS=Straße der Jugend 16\, Cot
 tbus\, 03046\, Brandenburg\, Deutschland;X-APPLE-RADIUS=100;X-TITLE=Obenki
 no:geo:51.754318,14.333652
END:VEVENT
BEGIN:VTIMEZONE
TZID:Europe/Berlin
X-LIC-LOCATION:Europe/Berlin
BEGIN:DAYLIGHT
DTSTART:20260329T030000
TZOFFSETFROM:+0100
TZOFFSETTO:+0200
TZNAME:CEST
END:DAYLIGHT
END:VTIMEZONE
END:VCALENDAR