BEGIN:VCALENDAR
VERSION:2.0
PRODID:-//wp-events-plugin.com//7.0.5//EN
TZID:Europe/Berlin
X-WR-TIMEZONE:Europe/Berlin
BEGIN:VEVENT
UID:30261@cottbus.de
DTSTART;TZID=Europe/Berlin:20260426T161500
DTEND;TZID=Europe/Berlin:20260426T201500
DTSTAMP:20260420T080148Z
URL:https://cottbus.de/veranstaltungen/un-poeta-literatur-film/
SUMMARY:UN POETA Literatur & Film
DESCRIPTION:CO\, DE\, SE 2025 | 123 Min | FSK: 16 | Buch &amp\; Regie: Sim
 ón Mesa Soto | DarstellerInnen: Ubeimar Rios\, Rebeca Andrade\, Guillermo
  Cardona\n\nÓscar Restrepos Besessenheit von der Poesie hat ihm bislang k
 einen Ruhm gebracht.\nEr ist zum lebenden Klischee des erfolglosen Dichter
 s geworden\, launisch\, oft betrunken und ständig pleite. Als er Yurlady 
 begegnet – ein Teenager aus der sozialen Unterschicht mit erstaunlichem 
 Talent – keimt ein Funken Licht in seinem Schattendasein auf. Seine Idee
 \, sie beim Poesiefestival Medellins vorzustellen\, scheint zu seinem näc
 hsten großen Fehltritt zu werden.\n„Humorvolles und nachdenkliches Port
 rät eines nichtsnutzigen Poeten\,\nden man einfach mögen muss.“\nCineu
 ropa\nLesung mit Texten der Erwachsenenschreibgruppe „Totdenker“.\n\nK
 inobar mit Kaffee &amp\; Gebäck ab 16 Uhr geöffnet | 16.15 Uhr Lesung | 
 17.00 Uhr Filmbeginn\n\nEine Veranstaltung in Kooperation mit dem LITERATU
 RWERK | GLADHOUSE.\nHinweis: Alle Vorstellungen in OmU | Originalfassung S
 panisch mit deutschen Untertiteln
ATTACH;FMTTYPE=image/jpeg:https://cottbus.de/wp-content/uploads/2024/12/73
 5e642a7c2e51e222de2d5fb7957c24d6c6e6df50e08d58639ce3e8553d9f86-scaled.jpg
CATEGORIES:Cottbus,Einzelveranstaltung,Film
LOCATION:Obenkino\, Straße der Jugend 16\, Cottbus\, 03046\, Brandenburg\,
  Deutschland
GEO:51.754318;14.333652
X-APPLE-STRUCTURED-LOCATION;VALUE=URI;X-ADDRESS=Straße der Jugend 16\, Cot
 tbus\, 03046\, Brandenburg\, Deutschland;X-APPLE-RADIUS=100;X-TITLE=Obenki
 no:geo:51.754318,14.333652
END:VEVENT
BEGIN:VTIMEZONE
TZID:Europe/Berlin
X-LIC-LOCATION:Europe/Berlin
BEGIN:DAYLIGHT
DTSTART:20260329T030000
TZOFFSETFROM:+0100
TZOFFSETTO:+0200
TZNAME:CEST
END:DAYLIGHT
END:VTIMEZONE
END:VCALENDAR