BEGIN:VCALENDAR
VERSION:2.0
PRODID:-//wp-events-plugin.com//7.0.5//EN
TZID:Europe/Berlin
X-WR-TIMEZONE:Europe/Berlin
BEGIN:VEVENT
UID:30457@cottbus.de
DTSTART;TZID=Europe/Berlin:20260530T200000
DTEND;TZID=Europe/Berlin:20260530T220000
DTSTAMP:20260421T135211Z
URL:https://cottbus.de/veranstaltungen/ticket-ins-leben-obenkino-in-cottbu
 s-3/
SUMMARY:TICKET INS LEBEN - Obenkino in Cottbus
DESCRIPTION:FR 2025 | 91 Min | FSK: 12 | Regie: Jean-Pierre Améris | Genre
 : Komödie | DarstellerInnen: Valérie Lemercier\, Gérard Darmon\, Patric
 k Timsit\n\nDer Chansonnier Antoine Toussaint ist seit Jahrzehnten ein gef
 eierter Star. Als er auf der Bühne zusammenbricht\, scheint das Ende sein
 er Karriere besiegelt. Frustriert plant er seinen Abgang und nimmt den nä
 chsten Zug nach Genf.\nDoch die Reise verläuft anders als geplant\, denn 
 in seinem Abteil sitzt die temperamentvolle Victoire – glühender Fan de
 s Sängers und voller unerschütterlichem Optimismus. Antoine will sie sch
 nellstens wieder loswerden\, doch Victoire lässt sich schwer abwimmeln un
 d bringt – ohne es zu ahnen – seine Pläne ins Wanken. Zu seiner groß
 en Überraschung wächst ihm die quirlige Nervensäge langsam ans Herz.\n\
 nMit viel Humor und unverkennbar französischer Leichtigkeit erzählt der 
 Film von unerwarteten Neuanfängen und spätem (Liebes-)Glück.
ATTACH;FMTTYPE=image/jpeg:https://cottbus.de/wp-content/uploads/2024/12/73
 5e642a7c2e51e222de2d5fb7957c24d6c6e6df50e08d58639ce3e8553d9f86-scaled.jpg
CATEGORIES:Cottbus,Einzelveranstaltung,Film,Kino
LOCATION:Obenkino\, Straße der Jugend 16\, Cottbus\, 03046\, Brandenburg\,
  Deutschland
GEO:51.754318;14.333652
X-APPLE-STRUCTURED-LOCATION;VALUE=URI;X-ADDRESS=Straße der Jugend 16\, Cot
 tbus\, 03046\, Brandenburg\, Deutschland;X-APPLE-RADIUS=100;X-TITLE=Obenki
 no:geo:51.754318,14.333652
END:VEVENT
BEGIN:VTIMEZONE
TZID:Europe/Berlin
X-LIC-LOCATION:Europe/Berlin
BEGIN:DAYLIGHT
DTSTART:20260329T030000
TZOFFSETFROM:+0100
TZOFFSETTO:+0200
TZNAME:CEST
END:DAYLIGHT
END:VTIMEZONE
END:VCALENDAR