BEGIN:VCALENDAR
VERSION:2.0
PRODID:-//wp-events-plugin.com//7.0.5//EN
TZID:Europe/Berlin
X-WR-TIMEZONE:Europe/Berlin
BEGIN:VEVENT
UID:766@cottbus.de
DTSTART;TZID=Europe/Berlin:20260512T200000
DTEND;TZID=Europe/Berlin:20260512T235900
DTSTAMP:20260422T131206Z
URL:https://cottbus.de/veranstaltungen/the-ten-tenors/
SUMMARY:The Ten Tenors
DESCRIPTION:THE TEN TENORS – Time of Your Life Tour 2026\nDie Erfolgsgesc
 hichte geht weiter!\nNach einer grandiosen Tournee im Jahr 2025 mit restlo
 s ausverkauften Häusern\, stehenden Ovationen und durchweg begeisterten K
 ritiken freuen sich die TEN TENORS\, ihre Erfolgsgeschichte mit der Time o
 f Your Life Tour 2026 fortzusetzen! Die Resonanz auf ihre Auftritte in Deu
 tschland war überwältigend – langjährige Fans strömten in die Konzer
 thallen\, während zahlreiche neue Zuhörer die faszinierende Mischung aus
  Klassik\, Rock und Pop für sich entdeckten.\nZehn Jahre lang waren die T
 EN TENORS nicht in Deutschland aufgetreten – umso größer war die Begei
 sterung\, als sie 2025 ihre triumphale Rückkehr feierten. Die alteingeses
 senen Fans wurden erneut in ihren Bann gezogen\, während eine völlig neu
 e Generation von Konzertbesuchern ihre einzigartige Show für sich entdeck
 te. Besonders beeindruckend war\, dass die TEN TENORS mit eigens für die 
 Deutschland-Tour eingeübten Songs überraschten. Titel wie „Komet“ vo
 n ...
ATTACH;FMTTYPE=image/jpeg:https://cottbus.de/wp-content/uploads/2026/02/it
 em_395863_pic_1_contentwidth.jpg
CATEGORIES:Einzelveranstaltung,Klassisches Konzert / Oper,Rock / Pop /
 Jazz
LOCATION:Stadthalle Cottbus\, Berliner Platz 6\, Cottbus\, 03046\, Brandenb
 urg\, Deutschland
GEO:51.761806;14.330493
X-APPLE-STRUCTURED-LOCATION;VALUE=URI;X-ADDRESS=Berliner Platz 6\, Cottbus\
 , 03046\, Brandenburg\, Deutschland;X-APPLE-RADIUS=100;X-TITLE=Stadthalle 
 Cottbus:geo:51.761806,14.330493
END:VEVENT
BEGIN:VTIMEZONE
TZID:Europe/Berlin
X-LIC-LOCATION:Europe/Berlin
BEGIN:DAYLIGHT
DTSTART:20260329T030000
TZOFFSETFROM:+0100
TZOFFSETTO:+0200
TZNAME:CEST
END:DAYLIGHT
END:VTIMEZONE
END:VCALENDAR