BEGIN:VCALENDAR
VERSION:2.0
PRODID:-//wp-events-plugin.com//7.0.5//EN
TZID:Europe/Berlin
X-WR-TIMEZONE:Europe/Berlin
BEGIN:VEVENT
UID:30512@cottbus.de
DTSTART;TZID=Europe/Berlin:20260422T170000
DTEND;TZID=Europe/Berlin:20260422T190000
DTSTAMP:20260422T084211Z
URL:https://cottbus.de/veranstaltungen/the-history-of-sound-im-weltspiegel
 -cottbus/
SUMMARY:The History of Sound - im Weltspiegel Cottbus
DESCRIPTION:Im Jahr 1917 verschlägt es den zurückhaltenden und talentiert
 en Musikstudenten Lionel (Paul Mescal) vom ländlichen Kentucky an die Ost
 küste\, wo er am Boston Conservatory seinen charmanten und selbstbewusste
 n Kommilitonen David (Josh O’Connor) kennenlernt. Über ihre tiefe Liebe
  zu traditioneller Folk-Musik kommen sich die beiden näher. Ihre leidensc
 haftliche Liebesgeschichte und die von ihnen gesammelte und bewahrte Musik
  werden den Verlauf von Lionels Leben für immer prägen …\nDauer: 129 m
 in\, Sprache: D\, Deutsch\, FSK: ab 6
ATTACH;FMTTYPE=image/jpeg:https://cottbus.de/wp-content/uploads/2026/04/20
 220930_130548-scaled.jpg
CATEGORIES:Cottbus,Film,Kino
LOCATION:Weltspiegel Cottbus\, Rudolf-Breitscheid-Straße 78\, Cottbus\, Br
 andenburg\,  03046 \, Lausitz\, Deutschland
X-APPLE-STRUCTURED-LOCATION;VALUE=URI;X-ADDRESS=Rudolf-Breitscheid-Straße 
 78\, Cottbus\, Brandenburg\,  03046 \, Lausitz\, Deutschland;X-APPLE-RADIU
 S=100;X-TITLE=Weltspiegel Cottbus:geo:0,0
END:VEVENT
BEGIN:VTIMEZONE
TZID:Europe/Berlin
X-LIC-LOCATION:Europe/Berlin
BEGIN:DAYLIGHT
DTSTART:20260329T030000
TZOFFSETFROM:+0100
TZOFFSETTO:+0200
TZNAME:CEST
END:DAYLIGHT
END:VTIMEZONE
END:VCALENDAR