BEGIN:VCALENDAR
VERSION:2.0
PRODID:-//wp-events-plugin.com//7.0.5//EN
TZID:Europe/Berlin
X-WR-TIMEZONE:Europe/Berlin
BEGIN:VEVENT
UID:30310@cottbus.de
DTSTART;TZID=Europe/Berlin:20260926T183000
DTEND;TZID=Europe/Berlin:20260926T203000
DTSTAMP:20260420T102704Z
URL:https://cottbus.de/veranstaltungen/stella-maris-von-der-weite-des-wass
 ers-konzert/
SUMMARY:Stella Maris – Von der Weite des Wassers - Konzert
DESCRIPTION:Sospiratem (Ensemble für Alte Musik)\nIn Kooperation mit dem H
 ütten – und Fischereimuseum Peitz
ATTACH;FMTTYPE=image/jpeg:https://cottbus.de/wp-content/uploads/2026/04/se
 ptember.jpg
CATEGORIES:Einzelveranstaltung,Konzert,Peitz
LOCATION:Hütten- und Fischereimuseum Peitz\, Hüttenwerk 1\, Peitz\, Brand
 enburg\, 03185\, Lausitz\, Deutschland
X-APPLE-STRUCTURED-LOCATION;VALUE=URI;X-ADDRESS=Hüttenwerk 1\, Peitz\, Bra
 ndenburg\, 03185\, Lausitz\, Deutschland;X-APPLE-RADIUS=100;X-TITLE=Hütte
 n- und Fischereimuseum Peitz:geo:0,0
END:VEVENT
BEGIN:VTIMEZONE
TZID:Europe/Berlin
X-LIC-LOCATION:Europe/Berlin
BEGIN:DAYLIGHT
DTSTART:20260329T030000
TZOFFSETFROM:+0100
TZOFFSETTO:+0200
TZNAME:CEST
END:DAYLIGHT
END:VTIMEZONE
END:VCALENDAR