BEGIN:VCALENDAR
VERSION:2.0
PRODID:-//wp-events-plugin.com//7.0.5//EN
TZID:Europe/Berlin
X-WR-TIMEZONE:Europe/Berlin
BEGIN:VEVENT
UID:30543@cottbus.de
DTSTART;TZID=Europe/Berlin:20260521T150000
DTEND;TZID=Europe/Berlin:20260521T190000
DTSTAMP:20260422T092247Z
URL:https://cottbus.de/veranstaltungen/spruehen-statt-schweigen-kreative-b
 eteiligungsaktion-im-familientreff-sachsendorf-madlow/
SUMMARY:„Sprühen statt schweigen“ Kreative Beteiligungsaktion im Famil
 ientreff Sachsendorf/Madlow
DESCRIPTION:Unter dem Motto „Sprühen statt schweigen“ lädt unser Fami
 lientreff „Punkt“ und der Betreute Spielplatz „Pirateninsel Rabauki
 “ zu einer kreativen Mitmachaktion für Familien\, Nachbar*innen und Int
 eressierte ein. Ziel ist es\, Stimmen aus dem Quartier sichtbar zu machen 
 und aktiv in die Stadtteilentwicklung einzubringen.\n\nAm Donnerstag\, den
  21. Mai 2026\, von 15 bis 19 Uhr verwandelt sich die „Pirateninsel Raba
 uki“ (Ecke Helene-Weigel-Straße/Dostojewskistraße) in einen offenen Be
 gegnungsraum für alle Generationen. Kinder\, Eltern\, Großeltern und Int
 eressierte sind eingeladen\, ihre Wünsche\, Ideen und Bedarfe mithilfe vo
 n Graffiti-Kunst auf Bannern auszudrücken.\n\nHintergrund der Aktion sind
  strukturelle Veränderungen in der Projektlandschaft in Cottbus\, die auc
 h Anpassungen im Angebot des SOS-Kinderdorf Lausitz erforderlich gemacht h
 aben. Trotz dieser Veränderungen bleibt die Unterstützung von Familien u
 nd das Engagement im Quartier weiterhin zentral.\nUns ist wichtig zu zeige
 n: Auch wenn sich Strukturen verändern\, bleibt der Bedarf der Menschen v
 or Ort im Mittelpunkt. Mit dieser Aktion möchten wir Raum für Austausch 
 schaffen und gleichzeitig wertvolle Impulse für die zukünftige Entwicklu
 ng des Stadtteils sammeln.\n\nNeben der Kreativ-Station bietet die Veranst
 altung Gelegenheit zum Dialog mit anderen Familien sowie mit Fachkräften 
 des SOS-Kinderdorf Lausitz. Den Abschluss bildet ein gemeinsames Grillen i
 n entspannter Atmosphäre.\nDie gestalteten Banner werden im Anschluss öf
 fentlich sichtbar aufgehängt und fließen als wichtige Grundlage in zukü
 nftige Planungen der Stadtteilentwicklung ein.\n\nOrt: Betreuter Spielplat
 z Pirateninsel Rabauki“\, Ecke Helene-Weigel-Str./Dostojewskistr.\, Cott
 bus\n\nAlle Interessierten sind herzlich eingeladen\, vorbeizukommen und d
 as Quartier aktiv mitzugestalten.
ATTACH;FMTTYPE=image/jpeg:https://cottbus.de/wp-content/uploads/2026/04/Ak
 tionstag-1.jpg
CATEGORIES:Cottbus,Einzelveranstaltung,Familie
LOCATION:Spielplatz Pirateninsel Rabauki\, Ecke Helene-Weigel-Straße/Dosto
 jewskistraße\, Cottbus\, Branden\, 03050\, Lausitz\, Deutschland
X-APPLE-STRUCTURED-LOCATION;VALUE=URI;X-ADDRESS=Ecke Helene-Weigel-Straße/
 Dostojewskistraße\, Cottbus\, Branden\, 03050\, Lausitz\, Deutschland;X-A
 PPLE-RADIUS=100;X-TITLE=Spielplatz Pirateninsel Rabauki:geo:0,0
END:VEVENT
BEGIN:VTIMEZONE
TZID:Europe/Berlin
X-LIC-LOCATION:Europe/Berlin
BEGIN:DAYLIGHT
DTSTART:20260329T030000
TZOFFSETFROM:+0100
TZOFFSETTO:+0200
TZNAME:CEST
END:DAYLIGHT
END:VTIMEZONE
END:VCALENDAR