BEGIN:VCALENDAR
VERSION:2.0
PRODID:-//wp-events-plugin.com//7.0.5//EN
TZID:Europe/Berlin
X-WR-TIMEZONE:Europe/Berlin
BEGIN:VEVENT
UID:20536@cottbus.de
DTSTART;TZID=Europe/Berlin:20250914T093000
DTEND;TZID=Europe/Berlin:20250914T235959
DTSTAMP:20250913T020514Z
URL:https://cottbus.de/veranstaltungen/spremberger-volkstriathlon/
SUMMARY:Spremberger Volkstriathlon
DESCRIPTION:Am Sonntag\, 14. September 2025\, veranstalten die Stadt Spremb
 erg/Grodk und die Wasserwacht Spremberg des DRK Kreisverband Niederlausitz
  e. V. den diesjährigen Volkstriathlon. Veranstaltungsort ist das Freibad
  Kochsagrund in Spremberg/Grodk.\nDer Startschuss fällt um 10:00 Uhr.\n\n
 Eine Anmeldung per Mail ist bis Sonntag möglich: info@spremberger-triathl
 on.de oder info@wasserwacht-spremberg.de. Aber auch spontan können sich S
 portler (Mindestalter 14 Jahre) noch am Sonntag bis 9:30 Uhr anmelden. Die
  Teilnahmegebühr beträgt 10 €\, ermäßigt 5 €.\n\nStrecken:\n- 500 
 m Schwimmen\n- 19 km Radfahren\n- 4\,6 km Laufen\n\nAchtung! Für die Rads
 portler besteht absolute Helmpflicht!\n\nDie Wertung erfolgt in verschiede
 nen Kategorien:\n- Einzelstarter: jeweils Kinder/Jugendliche/Damen/Herren\
 n- Mannschaften: je ein Starter für eine Disziplin\n- Familienstart: je e
 in Starter aus der Familie für eine Disziplin\n\nJeder Teilnehmer erhält
  eine Urkunde und eine Medaille. Für die Erst- bis Drittplatzierten g
CATEGORIES:Einzelveranstaltung,Sport
LOCATION:Freibad Kochsagrund\, nicht hinterlegt\, Spremberg/Grodk\, 03130\,
  Brandenburg\, Deutschland
GEO:51.576866149902;14.353021621704
X-APPLE-STRUCTURED-LOCATION;VALUE=URI;X-ADDRESS=nicht hinterlegt\, Sprember
 g/Grodk\, 03130\, Brandenburg\, Deutschland;X-APPLE-RADIUS=100;X-TITLE=Fre
 ibad Kochsagrund:geo:51.576866149902,14.353021621704
END:VEVENT
BEGIN:VTIMEZONE
TZID:Europe/Berlin
X-LIC-LOCATION:Europe/Berlin
BEGIN:DAYLIGHT
DTSTART:20250330T030000
TZOFFSETFROM:+0100
TZOFFSETTO:+0200
TZNAME:CEST
END:DAYLIGHT
END:VTIMEZONE
END:VCALENDAR