BEGIN:VCALENDAR
VERSION:2.0
PRODID:-//wp-events-plugin.com//7.0.5//EN
TZID:Europe/Berlin
X-WR-TIMEZONE:Europe/Berlin
BEGIN:VEVENT
UID:30316@cottbus.de
DTSTART;TZID=Europe/Berlin:20260507T000000
DTEND;TZID=Europe/Berlin:20260511T235900
DTSTAMP:20260420T124026Z
URL:https://cottbus.de/veranstaltungen/spree-festival-im-strombad-cottbus-
 2026-05-07/
SUMMARY:Spree Festival im Strombad Cottbus
DESCRIPTION:Das Spree Festival ist ein Ort für Austausch\, Wissen und krea
 tiver Aktionen für groß und klein. Von Donnerstag bis Sonntag werden Wor
 kshops\, Kultur\, Musik und Performance rund um das Thema Wasser angeboten
 . Unser Motto heißt: Zerstörung stoppen\, Wasser regenerieren und Wasser
 gerechtigkeit leben. Denn die Wasserkrisen sind auch in Brandenburg angeko
 mmen und immer mehr Fragen beschäftigen uns: Wer verschmutzt und zerstör
 t die Wasserkreisläufe? Wie kann wertvolles Wasser geschützt werden? Wie
  können wir Wasser gerecht verteilen\, wenn es doch eine knapper werdende
  Ressource ist?\nDiese und mehr Fragen widmen wir uns beim Spree Festival.
  Gäste können auf dem Gelände zelten oder als Tagesgäste kommen. Wir f
 reuen uns über Anmeldung.\nWeb: flusscamps.org | Instagram: @spree_festiv
 al | Telegram: @spreefestival
ATTACH;FMTTYPE=image/jpeg:https://cottbus.de/wp-content/uploads/2026/04/fi
 nal2.png
CATEGORIES:Cottbus,Einzelveranstaltung,Festival
LOCATION:Strombad Cottbus\, Stromstraße 14\, Cottbus\, Brandenburg\, 03046
 \, Lausitz\, Deutschland
X-APPLE-STRUCTURED-LOCATION;VALUE=URI;X-ADDRESS=Stromstraße 14\, Cottbus\,
  Brandenburg\, 03046\, Lausitz\, Deutschland;X-APPLE-RADIUS=100;X-TITLE=St
 rombad Cottbus:geo:0,0
END:VEVENT
BEGIN:VTIMEZONE
TZID:Europe/Berlin
X-LIC-LOCATION:Europe/Berlin
BEGIN:DAYLIGHT
DTSTART:20260329T030000
TZOFFSETFROM:+0100
TZOFFSETTO:+0200
TZNAME:CEST
END:DAYLIGHT
END:VTIMEZONE
END:VCALENDAR