BEGIN:VCALENDAR
VERSION:2.0
PRODID:-//wp-events-plugin.com//7.0.5//EN
TZID:Europe/Berlin
X-WR-TIMEZONE:Europe/Berlin
BEGIN:VEVENT
UID:30273@cottbus.de
DTSTART;TZID=Europe/Berlin:20260429T200000
DTEND;TZID=Europe/Berlin:20260429T220000
DTSTAMP:20260420T084243Z
URL:https://cottbus.de/veranstaltungen/siri-hustvedt-dance-around-the-self
 -obenkino-cottbus-5/
SUMMARY:SIRI HUSTVEDT – DANCE AROUND THE SELF - Obenkino Cottbus
DESCRIPTION:DE\, CH 2026 | 115 Min | FSK: 12 | Buch &amp\; Regie: Sabine Li
 dl | mit Siri Hustvedt\, Paul Auster\n\nJung\, neugierig und voller Tatend
 rang verlässt Siri Hustvedt ihre Heimat Minnesota und stürzt sich mitten
  hinein ins pulsierende New York. Auf der Suche nach der Hauptfigur ihres 
 ersten Romans beginnt eine Reise\, die sie nicht nur zur Schriftstellerin 
 macht\, sondern zu einer der wichtigsten Stimmen der amerikanischen Gegenw
 artsliteratur. Der Film öffnet einen Blick weit über Siri Hustvedt hinau
 s und feiert die kämpferische Kreativität von Künstlerinnen\, denen die
  Autorin sich verbunden fühlt. Zugleich erzählt der Film die einzigartig
 e Liebesgeschichte des legendären Autorenpaares aus Brooklyn: Siri Hustve
 dt und Paul Auster. Doch während die beiden über Sprache\, Identität un
 d die Kraft der Worte nachdenken\, bricht das Leben herein: Paul Auster wi
 rd schwer krank. Auch nach seinem Tod endet die gemeinsame Geschichte nich
 t: Siri Hustvedt beginnt den Verlust ihres „Lebensmenschen“ im Buch 
 „Ghost Stories: Ein Buch der Erinnerung“ literarisch zu verarbeiten.\n
 \nVier Jahre lang folgt Sabine Lidl den Gedanken und Geschichten\, die Sir
 i Hustvedt zu einer der wichtigsten intellektuellen und feministischen Sti
 mmen der amerikanischen Literatur gemacht haben. Gemeinsam sind sie immer 
 in Bewegung\, durch Zeit und Raum\, imaginär zwischen den Disziplinen\, d
 eren Grenzen Siri Hustvedt nicht gelten lässt.
ATTACH;FMTTYPE=image/jpeg:https://cottbus.de/wp-content/uploads/2024/12/73
 5e642a7c2e51e222de2d5fb7957c24d6c6e6df50e08d58639ce3e8553d9f86-scaled.jpg
CATEGORIES:Cottbus,Einzelveranstaltung,Film
LOCATION:Obenkino\, Straße der Jugend 16\, Cottbus\, 03046\, Brandenburg\,
  Deutschland
GEO:51.754318;14.333652
X-APPLE-STRUCTURED-LOCATION;VALUE=URI;X-ADDRESS=Straße der Jugend 16\, Cot
 tbus\, 03046\, Brandenburg\, Deutschland;X-APPLE-RADIUS=100;X-TITLE=Obenki
 no:geo:51.754318,14.333652
END:VEVENT
BEGIN:VTIMEZONE
TZID:Europe/Berlin
X-LIC-LOCATION:Europe/Berlin
BEGIN:DAYLIGHT
DTSTART:20260329T030000
TZOFFSETFROM:+0100
TZOFFSETTO:+0200
TZNAME:CEST
END:DAYLIGHT
END:VTIMEZONE
END:VCALENDAR