BEGIN:VCALENDAR
VERSION:2.0
PRODID:-//wp-events-plugin.com//7.0.5//EN
TZID:Europe/Berlin
X-WR-TIMEZONE:Europe/Berlin
BEGIN:VEVENT
UID:30311@cottbus.de
DTSTART;TZID=Europe/Berlin:20261014T180000
DTEND;TZID=Europe/Berlin:20261014T200000
DTSTAMP:20260420T103002Z
URL:https://cottbus.de/veranstaltungen/sinfonische-gewaesser-fokuskonzert-
 konzert-cottbus/
SUMMARY:Sinfonische Gewässer | Fokuskonzert - Konzert - Cottbus
DESCRIPTION:Veronika und Wolfgang Glemser (Klavier)\n\n&nbsp\;
ATTACH;FMTTYPE=image/jpeg:https://cottbus.de/wp-content/uploads/2026/04/ok
 tober.jpg
CATEGORIES:Cottbus,Einzelveranstaltung,Konzert
LOCATION:Kunsthalle Lausitz\, Güterzufuhrstraße 7\, Cottbus/Chóśebuz\, 
 03046\, Brandenburg\, Deutschland
GEO:51.761902;14.330221
X-APPLE-STRUCTURED-LOCATION;VALUE=URI;X-ADDRESS=Güterzufuhrstraße 7\, Cot
 tbus/Chóśebuz\, 03046\, Brandenburg\, Deutschland;X-APPLE-RADIUS=100;X-T
 ITLE=Kunsthalle Lausitz:geo:51.761902,14.330221
END:VEVENT
BEGIN:VTIMEZONE
TZID:Europe/Berlin
X-LIC-LOCATION:Europe/Berlin
BEGIN:DAYLIGHT
DTSTART:20260329T030000
TZOFFSETFROM:+0100
TZOFFSETTO:+0200
TZNAME:CEST
END:DAYLIGHT
END:VTIMEZONE
END:VCALENDAR