BEGIN:VCALENDAR
VERSION:2.0
PRODID:-//wp-events-plugin.com//7.0.5//EN
TZID:Europe/Berlin
X-WR-TIMEZONE:Europe/Berlin
BEGIN:VEVENT
UID:28706@cottbus.de
DTSTART;TZID=Europe/Berlin:20260503T190000
DTEND;TZID=Europe/Berlin:20260503T210000
DTSTAMP:20260422T131057Z
URL:https://cottbus.de/veranstaltungen/simon-garfunkel-tribute-meets-class
 ic-duo-graceland-mit-streichquartett/
SUMMARY:Simon &amp\; Garfunkel Tribute meets Classic (Duo Graceland mit Str
 eichquartett)
DESCRIPTION:Mit Liedern wie „Sound of Silence“ und „Bridge over Troub
 led Water“ schuf das US-amerikanische Duo Simon &amp\; Garfunkel poetisc
 he Hymnen für eine ganze Generation und ging spätestens mit „The Boxer
 “ in die Musikgeschichte ein.\nSeit über 15 Jahren spürt das Duo Grace
 land mit „A Tribute to Simon and Garfunkel“ intensiv dem musikalischen
  Geist seiner Vorbilder nach. Immer mit dem nötigen Respekt vor den groß
 en Kompositionen und dem Anspruch\, musikalisch hochwertige Interpretation
 en der Welthits von Simon &amp\; Garfunkel zu bieten. Dabei ist den beiden
  Musikern aus Bretten eines besonders wichtig: „Wir wollen keine Kopie s
 ein\, nicht visuell\, auch nicht stimmlich. Wir bleiben stets nahe am Orig
 inal\, geben den Kompositionen aber auch eine eigene Note.“ Und so bewei
 sen Thomas Wacker (Paul Simon) und Thorsten Gary (Art Garfunkel) mit ihrem
  aktuellen Projekt “Simon &amp\; Garfunkel Tribute meets Classic” eind
 rücklich: Die Klassiker des wohl erfolgreichsten Folkrock-Duos der Welt h
 armonieren perfekt mit dem Klag eines Streichensembles. Vor allem das Zusa
 mmenspiel der beiden Stimmen und zweier Gitarren mit den klassischen Instr
 umenten lässt die Songs von Simon &amp\; Garfunkel zu einem außergewöhn
 lichen Musikerlebnis werden.\nDie Zahl der Konzertbesucher spricht für si
 ch: Seit Jahren touren die beiden Musiker erfolgreich durch Europa. Mal zu
  zweit\, mal mit klassischem Streichquartett und ein paar Mal im Jahr soga
 r mit einem 52-köpfigen Orchester. Bei ihren Konzerten durchstreifen sie 
 die gefühlvollen Lieder und „rocken“ an anderer Stelle ihr Publikum.\
 nEin Abend mit Graceland ist daher nicht nur etwas für Nostalgiker\, die 
 gerne ihre alten Platten oder CDs aus dem Regal holen. Die zeitlos gute Mu
 sik von Simon &amp\; Garfunkel\, interpretiert von hervorragenden Musikern
  mit ganz eigenem Sound\, spricht Musikliebhaber aller Altersklassen an.
ATTACH;FMTTYPE=image/jpeg:https://cottbus.de/wp-content/uploads/2026/02/it
 em_1102713_pic_1_contentwidth.jpg
CATEGORIES:Einzelveranstaltung,Klassisches Konzert / Oper,Rock / Pop /
 Jazz
LOCATION:Kreuzkirche Cottbus\, Karlstraße 80\, Cottbus\, 03044\, Brandenbu
 rg\, Deutschland
GEO:51.767986;14.335736
X-APPLE-STRUCTURED-LOCATION;VALUE=URI;X-ADDRESS=Karlstraße 80\, Cottbus\, 
 03044\, Brandenburg\, Deutschland;X-APPLE-RADIUS=100;X-TITLE=Kreuzkirche C
 ottbus:geo:51.767986,14.335736
END:VEVENT
BEGIN:VTIMEZONE
TZID:Europe/Berlin
X-LIC-LOCATION:Europe/Berlin
BEGIN:DAYLIGHT
DTSTART:20260329T030000
TZOFFSETFROM:+0100
TZOFFSETTO:+0200
TZNAME:CEST
END:DAYLIGHT
END:VTIMEZONE
END:VCALENDAR