BEGIN:VCALENDAR
VERSION:2.0
PRODID:-//wp-events-plugin.com//7.0.5//EN
TZID:Europe/Berlin
X-WR-TIMEZONE:Europe/Berlin
BEGIN:VEVENT
UID:617@cottbus.de
DTSTART;TZID=Europe/Berlin:20260424T200000
DTEND;TZID=Europe/Berlin:20260424T235900
DTSTAMP:20260416T134750Z
URL:https://cottbus.de/veranstaltungen/simon-garfunkel-revival-band/
SUMMARY:Simon &amp\; Garfunkel Revival Band
DESCRIPTION:Es gibt wenige Künstler\, denen ein vergleichbar guter Ruf vor
 auseilt\, wie dies bei der Simon &amp\; Garfunkel Revival Band der Fall is
 t. Wo sie auch auftreten\, hinterlassen die sympathischen Vollblutmusiker 
 ein begeistertes Publikum und überschwängliche Kritiken.\n\nIn ihrem Pro
 gramm „Feelin´ Groovy“ präsentieren sie die schönsten Songs des Kul
 t-Duos.\n\nTraumhafte\, leidenschaftliche Balladen wie „Scarborough Fair
 “ oder „Bright Eyes“\, Klassiker wie „Mrs. Robinson“\, „The Bo
 xer“ oder „The Sound of Silence“ gehören ebenso fest zum umfangreic
 hen Repertoire wie die mitreißende „Cecilia“.\nEinfach nur Nachspiele
 n reicht da nicht! Um das Musikgefühl und die vielen kleinen musikalische
 n Raffinessen zu erwecken\, benötigt man auch erstklassige Musiker. Micha
 el Frank Gesang &amp\; Gitarre\, Guido Reuter Gesang\, Geige\, Flöte und 
 Klavier\, begleitet von Sebastian Fritzlar an Gitarre\, - Klavier\, - Trom
 mel &amp\; Bass\, Sven Lieser an der Gitarre sowie Mirko Sturm an den Perc
 ussion &amp\; am Schlagzeug\, schaffen den ...
ATTACH;FMTTYPE=image/jpeg:https://cottbus.de/wp-content/uploads/2026/02/it
 em_905715_pic_1_contentwidth.jpg
CATEGORIES:Einzelveranstaltung,Rock / Pop / Jazz,Senioren
LOCATION:Stadthalle Cottbus\, Berliner Platz 6\, Cottbus\, 03046\, Brandenb
 urg\, Deutschland
GEO:51.761806;14.330493
X-APPLE-STRUCTURED-LOCATION;VALUE=URI;X-ADDRESS=Berliner Platz 6\, Cottbus\
 , 03046\, Brandenburg\, Deutschland;X-APPLE-RADIUS=100;X-TITLE=Stadthalle 
 Cottbus:geo:51.761806,14.330493
END:VEVENT
BEGIN:VTIMEZONE
TZID:Europe/Berlin
X-LIC-LOCATION:Europe/Berlin
BEGIN:DAYLIGHT
DTSTART:20260329T030000
TZOFFSETFROM:+0100
TZOFFSETTO:+0200
TZNAME:CEST
END:DAYLIGHT
END:VTIMEZONE
END:VCALENDAR