BEGIN:VCALENDAR
VERSION:2.0
PRODID:-//wp-events-plugin.com//7.0.5//EN
TZID:Europe/Berlin
X-WR-TIMEZONE:Europe/Berlin
BEGIN:VEVENT
UID:30417@cottbus.de
DTSTART;TZID=Europe/Berlin:20260511T170000
DTEND;TZID=Europe/Berlin:20260511T190000
DTSTAMP:20260421T120901Z
URL:https://cottbus.de/veranstaltungen/sie-glauben-an-engel-herr-drowak-ob
 enkino-in-cottbus-3/
SUMMARY:SIE GLAUBEN AN ENGEL\, HERR DROWAK? - Obenkino in Cottbus
DESCRIPTION:DE\, CH 2024 | 127 Min | FSK: 12 | Regie: Nicolas Steiner | Gen
 re: Tragikomödie | DarstellerInnen: Luna Wedler\, Karl Markovics\, Lars E
 idinger\, Dominique Pinon\, Saga Sarkola\, Thelma Buabeng\, Nikolai Gemel\
 , Bettina Stucky\, Jan Bülow\n\nDie lebensfrohe Studentin Lena glaubt fes
 t an das Glück und das Gute im Menschen. Im Rahmen eines sozialen Projekt
 s wird sie vom Amt als Schreibtrainerin zu Hugo Drowak geschickt\, der sei
 n Glück schon lange verloren hat und allein in einem heruntergekommenen H
 ochhaus lebt.\nTrotz seiner notorischen Gemeinheiten gibt Lena nicht auf\,
  ihn für den kreativen Prozess zu begeistern. Sie ist überzeugt\, dass j
 eder Mensch eine zweite Chance verdient. Widerwillig beginnt Drowak über 
 die Liebe seines Lebens zu schreiben und weckt damit die Dämonen seiner V
 ergangenheit. Als Lena den Zusammenhang begreift\, stellt sie sich ihnen e
 ntschlossen entgegen.\n\n„Nicolas Steiner ist damit ein poetischer\, mel
 ancholischer und wunderschöner Film über die Einsamkeit\, Dämonen der V
 ergangenheit\, die Kraft der Poesie und das menschliche Miteinander voller
  eigenwilliger Charaktere gelungen – mit einer überwältigenden und\nzu
 gleich zurückhaltenden Bilderflut.“ epd-film
ATTACH;FMTTYPE=image/jpeg:https://cottbus.de/wp-content/uploads/2024/12/73
 5e642a7c2e51e222de2d5fb7957c24d6c6e6df50e08d58639ce3e8553d9f86-scaled.jpg
CATEGORIES:Cottbus,Einzelveranstaltung,Film,Kino
LOCATION:Obenkino\, Straße der Jugend 16\, Cottbus\, 03046\, Brandenburg\,
  Deutschland
GEO:51.754318;14.333652
X-APPLE-STRUCTURED-LOCATION;VALUE=URI;X-ADDRESS=Straße der Jugend 16\, Cot
 tbus\, 03046\, Brandenburg\, Deutschland;X-APPLE-RADIUS=100;X-TITLE=Obenki
 no:geo:51.754318,14.333652
END:VEVENT
BEGIN:VTIMEZONE
TZID:Europe/Berlin
X-LIC-LOCATION:Europe/Berlin
BEGIN:DAYLIGHT
DTSTART:20260329T030000
TZOFFSETFROM:+0100
TZOFFSETTO:+0200
TZNAME:CEST
END:DAYLIGHT
END:VTIMEZONE
END:VCALENDAR