BEGIN:VCALENDAR
VERSION:2.0
PRODID:-//wp-events-plugin.com//7.0.5//EN
TZID:Europe/Berlin
X-WR-TIMEZONE:Europe/Berlin
BEGIN:VEVENT
UID:29245@cottbus.de
DTSTART;TZID=Europe/Berlin:20260301T100000
DTEND;TZID=Europe/Berlin:20260301T130000
DTSTAMP:20260225T032009Z
URL:https://cottbus.de/veranstaltungen/senzig-wandert-graebendorfer-flur/
SUMMARY:Senzig wandert - Gräbendorfer Flur
DESCRIPTION:Einmal im Monat werden in Senzig die Wanderschuhe geschnürt. D
 ann laden das Netzwerk für Senzig und das Team der Wanderführer zu einer
  Tour in und um Senzig ein. Ziel ist es\, gemeinsam die Umgebung kennenzul
 ernen und Wissenswertes oder Überraschenden zu erfahren. Gewandert wird z
 u jeder Jahreszeit und bei jedem Wetter. Bitte an wetterangepasste Schuhe 
 und Kleidung denken und bedarfsgerechten Proviant mitführen.\n\nAm ersten
  Marz Sonntag in diesem Jahr werden wir den kalendarischen Frühling mit e
 iner Wanderung Richtung „Gräbendorfer Flur“ begrüßen. Unser Weg fü
 hrt uns durch die „Senziger Heide“\, über den „Buttersteig“ durch
  Wald und Flur. Bei gutem Frühlingswetter werden wir unterwegs eine Rast 
 einlegen. Also etwas für das kleine Picknick in den Rucksack packen.\n\nB
 itte unbedingt an warme und wetterangepasste Kleidung denken.\n
ATTACH;FMTTYPE=image/jpeg:https://cottbus.de/wp-content/uploads/2026/02/it
 em_1105035_pic_1_contentwidth.jpg
CATEGORIES:Einzelveranstaltung,Exkursion / Wanderung
LOCATION:EDEKA Senzig\, Chausseestraße 68-69\, Königs Wusterhausen\, 1571
 2\, Brandenburg\, Deutschland
GEO:52.2864595;13.6738965
X-APPLE-STRUCTURED-LOCATION;VALUE=URI;X-ADDRESS=Chausseestraße 68-69\, Kö
 nigs Wusterhausen\, 15712\, Brandenburg\, Deutschland;X-APPLE-RADIUS=100;X
 -TITLE=EDEKA Senzig:geo:52.2864595,13.6738965
END:VEVENT
BEGIN:VTIMEZONE
TZID:Europe/Berlin
X-LIC-LOCATION:Europe/Berlin
BEGIN:STANDARD
DTSTART:20251026T020000
TZOFFSETFROM:+0200
TZOFFSETTO:+0100
TZNAME:CET
END:STANDARD
END:VTIMEZONE
END:VCALENDAR