BEGIN:VCALENDAR
VERSION:2.0
PRODID:-//wp-events-plugin.com//7.0.5//EN
TZID:Europe/Berlin
X-WR-TIMEZONE:Europe/Berlin
BEGIN:VEVENT
UID:30354@cottbus.de
DTSTART;TZID=Europe/Berlin:20260508T140000
DTEND;TZID=Europe/Berlin:20260508T160000
DTSTAMP:20260421T074803Z
URL:https://cottbus.de/veranstaltungen/schmerztherapeutische-versorgung-vo
 n-rheumapatienten/
SUMMARY:Schmerztherapeutische Versorgung von Rheumapatienten
DESCRIPTION:
ATTACH;FMTTYPE=image/jpeg:https://cottbus.de/wp-content/uploads/2026/04/Ei
 nladung_Mai_DrWolf_ges-1.jpg
CATEGORIES:Cottbus,Einzelveranstaltung
LOCATION:Kreuzkirche Cottbus\, Karlstraße 80\, Cottbus\, 03044\, Brandenbu
 rg\, Deutschland
GEO:51.767986;14.335736
X-APPLE-STRUCTURED-LOCATION;VALUE=URI;X-ADDRESS=Karlstraße 80\, Cottbus\, 
 03044\, Brandenburg\, Deutschland;X-APPLE-RADIUS=100;X-TITLE=Kreuzkirche C
 ottbus:geo:51.767986,14.335736
END:VEVENT
BEGIN:VTIMEZONE
TZID:Europe/Berlin
X-LIC-LOCATION:Europe/Berlin
BEGIN:DAYLIGHT
DTSTART:20260329T030000
TZOFFSETFROM:+0100
TZOFFSETTO:+0200
TZNAME:CEST
END:DAYLIGHT
END:VTIMEZONE
END:VCALENDAR