BEGIN:VCALENDAR
VERSION:2.0
PRODID:-//wp-events-plugin.com//7.0.5//EN
TZID:Europe/Berlin
X-WR-TIMEZONE:Europe/Berlin
BEGIN:VEVENT
UID:30428@cottbus.de
DTSTART;TZID=Europe/Berlin:20260518T200000
DTEND;TZID=Europe/Berlin:20260518T220000
DTSTAMP:20260421T121736Z
URL:https://cottbus.de/veranstaltungen/rose-obenkino-in-cottbus-3/
SUMMARY:ROSE - Obenkino in Cottbus
DESCRIPTION:DE\, AT 2026 | 94 Min | FSK: 12 | Regie: Markus Schleinzer | Ge
 nre: Drama | DarstellerInnen: Sandra Hüller\, Caro Braun\, Marisa Growald
 t\, Godehard Giese\, Robert Gwisdek\, Maria Dragus u.v.m.\n\nIn den Wirren
  des 30-jährigen Krieges erscheint ein mysteriöser Soldat in einem abges
 chiedenen protestantischen Dorf. Schweigsam\, schmal\, das Gesicht durch e
 ine Narbe entstellt. Der Fremde behauptet\, Erbe eines seit langem verlass
 enen Gutshofs zu sein\, und kann ein Dokument vorlegen\, das seinen Anspru
 ch bestätigt. Zum großen Missfallen der Dorfgemeinde. Allerdings setzt d
 er Fremde alles daran\, hier sein Glück zu finden. Sein Streben nach Aner
 kennung und Akzeptanz werden aber durch sein Geheimnis erschwert: Unter fa
 lscher Identität\, unter falschem Namen und unter Vortäuschung eines fal
 schen Geschlechts hat der Soldat seinen Weg in das Dorf genommen. Doch um 
 seine Ziele zu erreichen\, wird er auch nicht vor der Unmöglichkeit einer
  arrangierten Ehe mit der Tochter eines Großbauern zurückschrecken. Denn
  wer so weit gekommen ist\, hält bald alles für möglich.\n„Dieser Fil
 m setzt allen Menschen\, die es wagen\, so zu leben\, wie sie wollen\,\nei
 n wunderschönes Denkmal.“\nDeutschlandfunk Kultur
ATTACH;FMTTYPE=image/jpeg:https://cottbus.de/wp-content/uploads/2024/12/73
 5e642a7c2e51e222de2d5fb7957c24d6c6e6df50e08d58639ce3e8553d9f86-scaled.jpg
CATEGORIES:Cottbus,Einzelveranstaltung,Film,Kino
LOCATION:Obenkino\, Straße der Jugend 16\, Cottbus\, 03046\, Brandenburg\,
  Deutschland
GEO:51.754318;14.333652
X-APPLE-STRUCTURED-LOCATION;VALUE=URI;X-ADDRESS=Straße der Jugend 16\, Cot
 tbus\, 03046\, Brandenburg\, Deutschland;X-APPLE-RADIUS=100;X-TITLE=Obenki
 no:geo:51.754318,14.333652
END:VEVENT
BEGIN:VTIMEZONE
TZID:Europe/Berlin
X-LIC-LOCATION:Europe/Berlin
BEGIN:DAYLIGHT
DTSTART:20260329T030000
TZOFFSETFROM:+0100
TZOFFSETTO:+0200
TZNAME:CEST
END:DAYLIGHT
END:VTIMEZONE
END:VCALENDAR