BEGIN:VCALENDAR
VERSION:2.0
PRODID:-//wp-events-plugin.com//7.0.5//EN
TZID:Europe/Berlin
X-WR-TIMEZONE:Europe/Berlin
BEGIN:VEVENT
UID:30489@cottbus.de
DTSTART;TZID=Europe/Berlin:20260503T170000
DTEND;TZID=Europe/Berlin:20260503T183000
DTSTAMP:20260422T074653Z
URL:https://cottbus.de/veranstaltungen/posaunen-und-orgel-in-der-kirche-gr
 oss-gaglow/
SUMMARY:Posaunen und Orgel in der Kirche Groß Gaglow
DESCRIPTION:2 Posaunen und Orgel mit Marcus Schneider und Daniel Jakob Wing
 rich – Posaune und Peter Wingrich – Orgel.
CATEGORIES:Cottbus,Konzert
LOCATION:Groß Gaglower Dorfkirche\, Dorfstraße 2\, 03051 Cottbus\, Cottbu
 s\, Brandenburg\, 03051\, Deutschland
X-APPLE-STRUCTURED-LOCATION;VALUE=URI;X-ADDRESS=Dorfstraße 2\, 03051 Cottb
 us\, Cottbus\, Brandenburg\, 03051\, Deutschland;X-APPLE-RADIUS=100;X-TITL
 E=Groß Gaglower Dorfkirche:geo:0,0
END:VEVENT
BEGIN:VTIMEZONE
TZID:Europe/Berlin
X-LIC-LOCATION:Europe/Berlin
BEGIN:DAYLIGHT
DTSTART:20260329T030000
TZOFFSETFROM:+0100
TZOFFSETTO:+0200
TZNAME:CEST
END:DAYLIGHT
END:VTIMEZONE
END:VCALENDAR