BEGIN:VCALENDAR
VERSION:2.0
PRODID:-//wp-events-plugin.com//7.0.5//EN
TZID:Europe/Berlin
X-WR-TIMEZONE:Europe/Berlin
BEGIN:VEVENT
UID:30314@cottbus.de
DTSTART;TZID=Europe/Berlin:20260530T190000
DTEND;TZID=Europe/Berlin:20260530T190000
DTSTAMP:20260420T122319Z
URL:https://cottbus.de/veranstaltungen/poetry-slam-show/
SUMMARY:Poetry Slam Show
DESCRIPTION:Die Kiezpoeten kommen erneut ins GLADHOUSE und bringen ihre Tex
 te im Wettbewerb auf die Bühne. Das Publikum stellt die Jurymitglieder un
 d der Applaus entscheidet\, wer gewinnt.\nDie Kiezpoeten sind ein Kultur-K
 ollektiv und Event-Unternehmen mit Sitz in Berlin. Sie veranstalten und mo
 derieren seit 2015 Kulturbühnen für Publikum und Auftragskunden\, leiten
  Workshops und vermitteln als Künstleragentur professionelle\, kreative u
 nd zuverlässige Artists.\n\nFolgendes LINE UP steht schon fest:\nAlina Ha
 bert\nJulian Großmann\nAlexandra Ossowsky\nund zwei weitere Poetinnen und
  Poeten\n\nModeration: Clara Undine\n\nDie Veranstaltung findet im Rahmen 
 des Projektes „Junge Lausitzer Kultur“ statt.\n\nKontakt: literaturwer
 kstatt@gladhouse.de
ATTACH;FMTTYPE=image/jpeg:https://cottbus.de/wp-content/uploads/2026/04/Ja
 hresrueckblick-20.jpg
LOCATION:Glad-House\, Straße der Jugend 16\, Cottbus\, 03046\, Brandenburg
 \, Deutschland
GEO:51.754332;14.333564
X-APPLE-STRUCTURED-LOCATION;VALUE=URI;X-ADDRESS=Straße der Jugend 16\, Cot
 tbus\, 03046\, Brandenburg\, Deutschland;X-APPLE-RADIUS=100;X-TITLE=Glad-H
 ouse:geo:51.754332,14.333564
END:VEVENT
BEGIN:VTIMEZONE
TZID:Europe/Berlin
X-LIC-LOCATION:Europe/Berlin
BEGIN:DAYLIGHT
DTSTART:20260329T030000
TZOFFSETFROM:+0100
TZOFFSETTO:+0200
TZNAME:CEST
END:DAYLIGHT
END:VTIMEZONE
END:VCALENDAR