BEGIN:VCALENDAR
VERSION:2.0
PRODID:-//wp-events-plugin.com//7.0.5//EN
TZID:Europe/Berlin
X-WR-TIMEZONE:Europe/Berlin
BEGIN:VEVENT
UID:30425@cottbus.de
DTSTART;TZID=Europe/Berlin:20260518T170000
DTEND;TZID=Europe/Berlin:20260518T190000
DTSTAMP:20260421T121608Z
URL:https://cottbus.de/veranstaltungen/palaestina-36-omu-obenkino-in-cottb
 us/
SUMMARY:PALÄSTINA 36 - OmU - Obenkino in Cottbus
DESCRIPTION:PS\, GB\, FR\, NO\, DK\, QA\, SA\, JO 2025 | 119 Min | FSK: k.A
 . | Buch &amp\; Regie: Annemarie Jacir | Genre: Historiendrama | Darstelle
 rInnen: Jeremy Irons\, Hiam Abbass\, Kamel Al Basha u.v.m.\nPalästina 193
 6: Immer mehr Dörfer erheben sich gegen die britische Kolonialmacht\, die
  ihren Einfluss mit Gewalt durchsetzt. Gleichzeitig siedeln sich europäis
 che Juden\, die vor dem Nationalsozialismus geflohen sind\, in der Region 
 an. Zwischen seinem ländlichen Heimatdorf und dem zunehmend angespannten 
 Jerusalem pendelt der unparteiische Yusuf.\nNach einem folgenschweren Erei
 gnis schlägt sich der junge Mann auf die Seite des Widerstands. Er schlie
 ßt sich Verbündeten wie dem Hafenarbeiter Khalid an\, der angesichts der
  eskalierenden Situation keinen anderen Ausweg mehr sieht\, als zur Waffe 
 zu greifen. Während sich persönliche Schicksale und politische Umbrüche
  unaufhaltsam verweben\, spitzt sich die Lage dramatisch zu – ein entsch
 eidender Moment\, der den Ursprung des Konflikts der gesamten Region marki
 ert.\n„…mit beeindruckender Genauigkeit und Sinn für Details entwirft
  Annemarie Jacir\nein bildgewaltiges und schauspielstarkes Historienkino
 “\nmoviebreak.de\nHinweis: OmU – Vorstellung | Originalfassung Arabisc
 h/Englisch mit deutschen Untertiteln
ATTACH;FMTTYPE=image/jpeg:https://cottbus.de/wp-content/uploads/2024/12/73
 5e642a7c2e51e222de2d5fb7957c24d6c6e6df50e08d58639ce3e8553d9f86-scaled.jpg
CATEGORIES:Cottbus,Einzelveranstaltung,Film,Kino
LOCATION:Obenkino\, Straße der Jugend 16\, Cottbus\, 03046\, Brandenburg\,
  Deutschland
GEO:51.754318;14.333652
X-APPLE-STRUCTURED-LOCATION;VALUE=URI;X-ADDRESS=Straße der Jugend 16\, Cot
 tbus\, 03046\, Brandenburg\, Deutschland;X-APPLE-RADIUS=100;X-TITLE=Obenki
 no:geo:51.754318,14.333652
END:VEVENT
BEGIN:VTIMEZONE
TZID:Europe/Berlin
X-LIC-LOCATION:Europe/Berlin
BEGIN:DAYLIGHT
DTSTART:20260329T030000
TZOFFSETFROM:+0100
TZOFFSETTO:+0200
TZNAME:CEST
END:DAYLIGHT
END:VTIMEZONE
END:VCALENDAR