BEGIN:VCALENDAR
VERSION:2.0
PRODID:-//wp-events-plugin.com//7.0.5//EN
TZID:Europe/Berlin
X-WR-TIMEZONE:Europe/Berlin
BEGIN:VEVENT
UID:30296@cottbus.de
DTSTART;TZID=Europe/Berlin:20260510T170000
DTEND;TZID=Europe/Berlin:20260510T170000
DTSTAMP:20260420T085949Z
URL:https://cottbus.de/veranstaltungen/open-mic-buehne-acht-cottbus/
SUMMARY:Open Mic - Bühne acht - Cottbus
DESCRIPTION:This Open Mic is organised by BTU Writer‘s Club and it‘s op
 en for everyone. Poems (self-written or by a famous one) and stories (1-2 
 pages max) are\nrecited\, in English and German. Please send in your name 
 and writings to the Club before the event. We will plan our programme sche
 dule according to\nthe received writings. Spontaneous participation is als
 o possible. E-Mail: btuwritersclub@gmail.com\nDie Teilnahme ist kostenlos.
ATTACH;FMTTYPE=image/jpeg:https://cottbus.de/wp-content/uploads/2025/09/Bu
 ehne8.jpg
CATEGORIES:Cottbus,Einzelveranstaltung
LOCATION:BÜHNE acht\, Erich-Weinert-Straße 2\, 03046 Cottbus\, Cottbus\, 
 Brandenburg\, 03046\, Deutschland
X-APPLE-STRUCTURED-LOCATION;VALUE=URI;X-ADDRESS=Erich-Weinert-Straße 2\, 0
 3046 Cottbus\, Cottbus\, Brandenburg\, 03046\, Deutschland;X-APPLE-RADIUS=
 100;X-TITLE=BÜHNE acht:geo:0,0
END:VEVENT
BEGIN:VTIMEZONE
TZID:Europe/Berlin
X-LIC-LOCATION:Europe/Berlin
BEGIN:DAYLIGHT
DTSTART:20260329T030000
TZOFFSETFROM:+0100
TZOFFSETTO:+0200
TZNAME:CEST
END:DAYLIGHT
END:VTIMEZONE
END:VCALENDAR