BEGIN:VCALENDAR
VERSION:2.0
PRODID:-//wp-events-plugin.com//7.0.5//EN
TZID:Europe/Berlin
X-WR-TIMEZONE:Europe/Berlin
BEGIN:VEVENT
UID:30326@cottbus.de
DTSTART;TZID=Europe/Berlin:20260422T143000
DTEND;TZID=Europe/Berlin:20260422T173000
DTSTAMP:20260420T125609Z
URL:https://cottbus.de/veranstaltungen/offene-holzwerkstatt-cottbus/
SUMMARY:Offene Holzwerkstatt - Cottbus
DESCRIPTION:
ATTACH;FMTTYPE=image/jpeg:https://cottbus.de/wp-content/uploads/2026/04/Vi
 lla-Quadrat.jpg
CATEGORIES:Cottbus,Einzelveranstaltung
LOCATION:Frauenzentrum Cottbus e.V. – Lila Villa\, Thiemstraße 55\, Cott
 bus\, Brandenburg\, 03050\, Brandenburg\, Deutschland
GEO:51.742669;14.325877
X-APPLE-STRUCTURED-LOCATION;VALUE=URI;X-ADDRESS=Thiemstraße 55\, Cottbus\,
  Brandenburg\, 03050\, Brandenburg\, Deutschland;X-APPLE-RADIUS=100;X-TITL
 E=Frauenzentrum Cottbus e.V. – Lila Villa:geo:51.742669,14.325877
END:VEVENT
BEGIN:VTIMEZONE
TZID:Europe/Berlin
X-LIC-LOCATION:Europe/Berlin
BEGIN:DAYLIGHT
DTSTART:20260329T030000
TZOFFSETFROM:+0100
TZOFFSETTO:+0200
TZNAME:CEST
END:DAYLIGHT
END:VTIMEZONE
END:VCALENDAR