BEGIN:VCALENDAR
VERSION:2.0
PRODID:-//wp-events-plugin.com//7.0.5//EN
TZID:Europe/Berlin
X-WR-TIMEZONE:Europe/Berlin
BEGIN:VEVENT
UID:30487@cottbus.de
DTSTART;TZID=Europe/Berlin:20260525T100000
DTEND;TZID=Europe/Berlin:20260525T110000
DTSTAMP:20260422T072209Z
URL:https://cottbus.de/veranstaltungen/oekumenischer-gottesdienst/
SUMMARY:ökumenischer Gottesdienst
DESCRIPTION:
ATTACH;FMTTYPE=image/jpeg:https://cottbus.de/wp-content/uploads/2026/04/20
 210715_175855-scaled.jpg
CATEGORIES:Cottbus,Einzelveranstaltung,Gottesdienst
LOCATION:St. Maria-Friedenskönigin\, Adolph-Kolping-Straße 17\, Cottbus\,
  Brandenburg\, 03046\, Lausitz\, Deutschland
X-APPLE-STRUCTURED-LOCATION;VALUE=URI;X-ADDRESS=Adolph-Kolping-Straße 17\,
  Cottbus\, Brandenburg\, 03046\, Lausitz\, Deutschland;X-APPLE-RADIUS=100;
 X-TITLE=St. Maria-Friedenskönigin:geo:0,0
END:VEVENT
BEGIN:VTIMEZONE
TZID:Europe/Berlin
X-LIC-LOCATION:Europe/Berlin
BEGIN:DAYLIGHT
DTSTART:20260329T030000
TZOFFSETFROM:+0100
TZOFFSETTO:+0200
TZNAME:CEST
END:DAYLIGHT
END:VTIMEZONE
END:VCALENDAR