BEGIN:VCALENDAR
VERSION:2.0
PRODID:-//wp-events-plugin.com//7.0.5//EN
TZID:Europe/Berlin
X-WR-TIMEZONE:Europe/Berlin
BEGIN:VEVENT
UID:30288@cottbus.de
DTSTART;TZID=Europe/Berlin:20260503T200000
DTEND;TZID=Europe/Berlin:20260503T220000
DTSTAMP:20260420T085015Z
URL:https://cottbus.de/veranstaltungen/nouvelle-vague-obenkino-cottbus-2/
SUMMARY:NOUVELLE VAGUE - Obenkino Cottbus
DESCRIPTION:FR 2025 | 105 Min | FSK: 12 | Regie: Richard Linklater | Darste
 llerInnen: Guillaume Marbeck\, Zoey Deutch\, Aubry Dullin\n\nParis\, Ende 
 der 1950er-Jahre: Der 28-jährige Jean-Luc Godard hat als Einziger in sein
 em Freundeskreis noch keinen eigenen Film gemacht. Mit einem verrückten T
 eam\, einem amerikanischen Filmstar und wenig Geld gelingt ihm schließlic
 h unter abenteuerlichen Umständen mit AUSSER ATEM ein Meisterwerk\, das i
 n die Filmgeschichte eingehen und das Kino für immer verändern wird.\n\n
 Kult-Regisseur Richard Linklater (BOYHOOD\, BEFORE-Trilogie) lässt eine g
 anze Generation junger Wilder wieder lebendig werden: beneidenswert lässi
 g\, unverschämt mutig und angetrieben vom unbedingten Willen\, alles neu 
 und anders zu machen.\nEin Film\, der vor Esprit\, Dynamik und Humor nur s
 o sprüht und einen dazu bringt\, sich wieder kopfüber in das Kino zu ver
 lieben. Seine Weltpremiere feierte NOUVELLE VAGUE beim Filmfestival von Ca
 nnes – unter großem Applaus von Kritik\, Publikum und von Fans wie Quen
 tin Tarantino.
ATTACH;FMTTYPE=image/jpeg:https://cottbus.de/wp-content/uploads/2024/12/73
 5e642a7c2e51e222de2d5fb7957c24d6c6e6df50e08d58639ce3e8553d9f86-scaled.jpg
CATEGORIES:Cottbus,Einzelveranstaltung,Film
LOCATION:Obenkino\, Straße der Jugend 16\, Cottbus\, 03046\, Brandenburg\,
  Deutschland
GEO:51.754318;14.333652
X-APPLE-STRUCTURED-LOCATION;VALUE=URI;X-ADDRESS=Straße der Jugend 16\, Cot
 tbus\, 03046\, Brandenburg\, Deutschland;X-APPLE-RADIUS=100;X-TITLE=Obenki
 no:geo:51.754318,14.333652
END:VEVENT
BEGIN:VTIMEZONE
TZID:Europe/Berlin
X-LIC-LOCATION:Europe/Berlin
BEGIN:DAYLIGHT
DTSTART:20260329T030000
TZOFFSETFROM:+0100
TZOFFSETTO:+0200
TZNAME:CEST
END:DAYLIGHT
END:VTIMEZONE
END:VCALENDAR