BEGIN:VCALENDAR
VERSION:2.0
PRODID:-//wp-events-plugin.com//7.0.5//EN
TZID:Europe/Berlin
X-WR-TIMEZONE:Europe/Berlin
BEGIN:VEVENT
UID:720@cottbus.de
DTSTART;TZID=Europe/Berlin:20260503T180000
DTEND;TZID=Europe/Berlin:20260503T235900
DTSTAMP:20260422T131034Z
URL:https://cottbus.de/veranstaltungen/nik-p-band/
SUMMARY:Nik P. &amp\; Band
DESCRIPTION:Nach dem sensationellen Zuspruch des Publikums in den letzten J
 ahren kommt „Nik P. &amp\; Band“ am So.\, 03.05.2026 in die Stadthalle
  nach Cottbus!\nIn seiner Heimat zählt Nik P. seit Ende der 1990er Jahre 
 zu den erfolgreichsten Interpreten seines Genres. Über die Grenzen Öster
 reichs hinaus bekannt wurde er durch die Komposition “Ein Sterin (der De
 inen Namen trägt)”. Acht Jahre nachdem er den Titel für den Grand Prix
  des Schlagers geschrieben hatte\, konnte er sich Anfang 2007 in verschied
 enen Versionen\, darunter von DJ Ötzi und Nic\, in den Hitparaden platzie
 ren. Die Fassung\, die er zusammen mit DJ Ötzi einspielte\, wurde zur erf
 olgreichsten Single in Deutschland seit zehn Jahren und überholte als der
 jenige Titel\, der am längsten in den Top 10 der deutschen Single-Charts 
 war\, Freddy Quinns “Die Gitarre und das Meer”. 2008 gewann er den deu
 tschen Musikpreis Echo in der Kategorie “Hit des Jahres”.\nEr hat die 
 seltene Gabe scheinbar leichtfüßig zwischen Pop und Schlager zu balancie
 ren ...
ATTACH;FMTTYPE=image/jpeg:https://cottbus.de/wp-content/uploads/2026/02/it
 em_865571_pic_1_contentwidth.jpg
CATEGORIES:Einzelveranstaltung,Rock / Pop / Jazz
LOCATION:Stadthalle Cottbus\, Berliner Platz 6\, Cottbus\, 03046\, Brandenb
 urg\, Deutschland
GEO:51.761806;14.330493
X-APPLE-STRUCTURED-LOCATION;VALUE=URI;X-ADDRESS=Berliner Platz 6\, Cottbus\
 , 03046\, Brandenburg\, Deutschland;X-APPLE-RADIUS=100;X-TITLE=Stadthalle 
 Cottbus:geo:51.761806,14.330493
END:VEVENT
BEGIN:VTIMEZONE
TZID:Europe/Berlin
X-LIC-LOCATION:Europe/Berlin
BEGIN:DAYLIGHT
DTSTART:20260329T030000
TZOFFSETFROM:+0100
TZOFFSETTO:+0200
TZNAME:CEST
END:DAYLIGHT
END:VTIMEZONE
END:VCALENDAR