BEGIN:VCALENDAR
VERSION:2.0
PRODID:-//wp-events-plugin.com//7.0.5//EN
TZID:Europe/Berlin
X-WR-TIMEZONE:Europe/Berlin
BEGIN:VEVENT
UID:30353@cottbus.de
DTSTART;TZID=Europe/Berlin:20260524T210000
DTEND;TZID=Europe/Berlin:20260524T234500
DTSTAMP:20260420T132640Z
URL:https://cottbus.de/veranstaltungen/nacht-der-offenen-kirchen-gedenksta
 ette-zuchthaus-cottbus/
SUMMARY:Nacht der offenen Kirchen - Gedenkstätte Zuchthaus Cottbus
DESCRIPTION:Nacht der offenen Kirchen - Erinnern\, Zuhören\, Nachdenken ü
 ber Versöhnung\, die Geschichte der »community of cross of nails« und h
 eute in Coventry und der Gedenkstätte Zuchthaus Cottbus\nEinblick in die 
 Nagelkreuzarbeit des Menschenrechtszentrum Cottbus e. V. - Gespräche mit 
 Gästen aus Kirche\, Zeitzeugenschaft und Gesellschaft bei Musik\, Geträn
 ken und Knabbereien. Beginn: 21\, 22 und 23 Uhr.\nDarüber hinaus laden di
 e Sonder- und Dauerausstellungen im Hauptgebäude der Gedenkstätte von 21
  bis 24 Uhr zur individuellen Besichtigung ein. Sie vermitteln Einblicke i
 n die Geschichte des ehemaligen Gefängnisses\, die Haftbedingungen sowie 
 die Schicksale der dort inhaftierten Menschen während der NS- und SED-Dik
 tatur.\nIm Foyer lädt ein kostenloser Bücherbasar zum Stöbern ein.\n\nK
 eine Anmeldung erforderlich.
ATTACH;FMTTYPE=image/jpeg:https://cottbus.de/wp-content/uploads/2026/04/Na
 cht-der-offenen-Kirchen.png
CATEGORIES:Cottbus,Einzelveranstaltung,Kirche/Religion
END:VEVENT
BEGIN:VTIMEZONE
TZID:Europe/Berlin
X-LIC-LOCATION:Europe/Berlin
BEGIN:DAYLIGHT
DTSTART:20260329T030000
TZOFFSETFROM:+0100
TZOFFSETTO:+0200
TZNAME:CEST
END:DAYLIGHT
END:VTIMEZONE
END:VCALENDAR