BEGIN:VCALENDAR
VERSION:2.0
PRODID:-//wp-events-plugin.com//7.0.5//EN
TZID:Europe/Berlin
X-WR-TIMEZONE:Europe/Berlin
BEGIN:VEVENT
UID:652@cottbus.de
DTSTART;TZID=Europe/Berlin:20260425T193000
DTEND;TZID=Europe/Berlin:20260425T223000
DTSTAMP:20260416T134902Z
URL:https://cottbus.de/veranstaltungen/nabucco/
SUMMARY:Nabucco
DESCRIPTION:Dramma lirico in vier Teilen von Giuseppe Verdi\nLibretto von T
 emistocle Solera\n\nMächtige Chöre\, großes Freiheitspathos und dramati
 sche Wucht: Mit NABUCCO erzielte der junge Verdi 1842 seinen Durchbruch al
 s Opernkomponist und bis heute ist das Werk einer der beliebtesten Titel d
 es Repertoires. Jetzt kommt es zum ersten Mal auch im Staatstheater Cottbu
 s auf die Bühne.\n\nIm Mittelpunkt steht der babylonische König Nebukadn
 ezar II.\, ein biblisches Sinnbild für Hybris\, Strafe und Läuterung. Na
 bucco\, wie er auf Italienisch heißt\, hat sich dem Volk der Israeliten u
 nterworfen. In einem Anfall von Größenwahn erklärt er sich selbst zum G
 ott und wird dafür mit Wahnsinn bestraft. Seine intrigante Tochter nutzt 
 seine Schwäche\, um die Macht an sich zu reißen. Der politischen Intrige
  steht ein emotionales Familien- und Liebesdrama gegenüber. Der berühmte
  Gefangenenchor der Israeliten „Va\, pensiero“ wurde zur heimlichen Hy
 mne der italienischen Freiheitsbewegung des Risorgimento.
ATTACH;FMTTYPE=image/jpeg:https://cottbus.de/wp-content/uploads/2026/02/it
 em_923069_pic_1_contentwidth.jpg
CATEGORIES:Einzelveranstaltung,Klassisches Konzert / Oper,Senioren
LOCATION:Großes Haus (Staatstheater Cottbus)\, Schillerplatz  1\, Cottbus\
 , 03046\, Brandenburg\, Deutschland
GEO:51.761902;14.330221
X-APPLE-STRUCTURED-LOCATION;VALUE=URI;X-ADDRESS=Schillerplatz  1\, Cottbus\
 , 03046\, Brandenburg\, Deutschland;X-APPLE-RADIUS=100;X-TITLE=Großes Hau
 s (Staatstheater Cottbus):geo:51.761902,14.330221
END:VEVENT
BEGIN:VTIMEZONE
TZID:Europe/Berlin
X-LIC-LOCATION:Europe/Berlin
BEGIN:DAYLIGHT
DTSTART:20260329T030000
TZOFFSETFROM:+0100
TZOFFSETTO:+0200
TZNAME:CEST
END:DAYLIGHT
END:VTIMEZONE
END:VCALENDAR