BEGIN:VCALENDAR
VERSION:2.0
PRODID:-//wp-events-plugin.com//7.0.5//EN
TZID:Europe/Berlin
X-WR-TIMEZONE:Europe/Berlin
BEGIN:VEVENT
UID:30306@cottbus.de
DTSTART;TZID=Europe/Berlin:20260422T183000
DTEND;TZID=Europe/Berlin:20260422T183000
DTSTAMP:20260420T101140Z
URL:https://cottbus.de/veranstaltungen/mysterium-wasser-von-den-geschichte
 n-des-wassers-literaturkonzert/
SUMMARY:Mysterium Wasser – Von den Geschichten des Wassers | Literaturkon
 zert
DESCRIPTION:Antje Gräupner (Harfe)\, Irmgard Lauff (Autorin)
ATTACH;FMTTYPE=image/jpeg:https://cottbus.de/wp-content/uploads/2026/04/ap
 ril.jpg
CATEGORIES:Burg,Einzelveranstaltung,Konzert
LOCATION:evangelische Kirchengemeinde Burg\, Kirchweg 22\, Burg/Spreewald\,
  Brandenburg\, 03096\, Lausitz\, Deutschland
X-APPLE-STRUCTURED-LOCATION;VALUE=URI;X-ADDRESS=Kirchweg 22\, Burg/Spreewal
 d\, Brandenburg\, 03096\, Lausitz\, Deutschland;X-APPLE-RADIUS=100;X-TITLE
 =evangelische Kirchengemeinde Burg:geo:0,0
END:VEVENT
BEGIN:VTIMEZONE
TZID:Europe/Berlin
X-LIC-LOCATION:Europe/Berlin
BEGIN:DAYLIGHT
DTSTART:20260329T030000
TZOFFSETFROM:+0100
TZOFFSETTO:+0200
TZNAME:CEST
END:DAYLIGHT
END:VTIMEZONE
END:VCALENDAR