BEGIN:VCALENDAR
VERSION:2.0
PRODID:-//wp-events-plugin.com//7.0.5//EN
TZID:Europe/Berlin
X-WR-TIMEZONE:Europe/Berlin
BEGIN:VEVENT
UID:30420@cottbus.de
DTSTART;TZID=Europe/Berlin:20260510T150000
DTEND;TZID=Europe/Berlin:20260510T170000
DTSTAMP:20260421T121214Z
URL:https://cottbus.de/veranstaltungen/muttertags-preview-hallo-betty-oben
 kino-in-cottbus/
SUMMARY:Muttertags-Preview - HALLO BETTY - Obenkino in Cottbus
DESCRIPTION:CH 2025 | 110 Min | FSK: 6 | Regie: Pierre Monnard | Genre: Kom
 ödie | DarstellerInnen: Sarah Spale\, Rabea Egg\, Martin Vischer\, Cyril 
 Metzger\, Marcus Signer\n1956 erfindet die schüchterne Werbetexterin Emmi
  Creola im Rahmen einer Kampagne für Speiseöl die Kunstfigur Betty Bossi
  – und trifft damit den Nerv der Zeit. Aus einer Marketingidee wird die 
 „Köchin und Hausfrau der Nation“\, aus Emmi eine unfreiwillige öffen
 tliche Figur. Denn die Schweiz liebt Betty – und verlangt bald ein echte
 s Gesicht. Emmi schlüpft widerwillig in die Rolle ihrer eigenen Erfindung
  und wird selbst zur gefeierten Koch-Ikone. Doch der Erfolg fordert seinen
  Preis: In einer von Männern dominierten Branche muss sie sich behaupten\
 , während sie zugleich versucht\, den Erwartungen als Ehefrau und Mutter 
 gerecht zu werden.\nMit feinem Humor\, berührenden Momenten und nostalgis
 chem Charme erzählt der Film den wahren Emanzipationsweg einer Frau\, die
  Geschichte schrieb. Der ganz große Publikumsfavorit aus der Schweiz.\n
 „Serviert wird die amüsante Emanzipationsgeschichte\nmit nostalgischem 
 Retro-Charme der 50er Jahre:\nDas Auge isst schließlich mit!“\nprogramm
 kino.de\nHinweis: Weitere Vorstellungen in der Kinowoche 25.06.-01.07.2026
ATTACH;FMTTYPE=image/jpeg:https://cottbus.de/wp-content/uploads/2024/12/73
 5e642a7c2e51e222de2d5fb7957c24d6c6e6df50e08d58639ce3e8553d9f86-scaled.jpg
CATEGORIES:Cottbus,Einzelveranstaltung,Film,Kino
LOCATION:Obenkino\, Straße der Jugend 16\, Cottbus\, 03046\, Brandenburg\,
  Deutschland
GEO:51.754318;14.333652
X-APPLE-STRUCTURED-LOCATION;VALUE=URI;X-ADDRESS=Straße der Jugend 16\, Cot
 tbus\, 03046\, Brandenburg\, Deutschland;X-APPLE-RADIUS=100;X-TITLE=Obenki
 no:geo:51.754318,14.333652
END:VEVENT
BEGIN:VTIMEZONE
TZID:Europe/Berlin
X-LIC-LOCATION:Europe/Berlin
BEGIN:DAYLIGHT
DTSTART:20260329T030000
TZOFFSETFROM:+0100
TZOFFSETTO:+0200
TZNAME:CEST
END:DAYLIGHT
END:VTIMEZONE
END:VCALENDAR