BEGIN:VCALENDAR
VERSION:2.0
PRODID:-//wp-events-plugin.com//7.0.5//EN
TZID:Europe/Berlin
X-WR-TIMEZONE:Europe/Berlin
BEGIN:VEVENT
UID:30488@cottbus.de
DTSTART;TZID=Europe/Berlin:20260501T190000
DTEND;TZID=Europe/Berlin:20260501T210000
DTSTAMP:20260422T073857Z
URL:https://cottbus.de/veranstaltungen/musik-du-sprache-wo-sprachen-enden-
 rilke-in-der-klosterkirche/
SUMMARY:„Musik – Du Sprache\, wo Sprachen enden“ (Rilke) in der Klost
 erkirche
DESCRIPTION:(Wandel-)Konzert für Trompete mit Orgel sowie Cembalo &amp\; K
 lavier\nDie Dresdner Bachsolisten: Joachim Karl Schäfer (Trompete\, Korne
 tt)\, Andreas Wenske (Orgel\, Cembalo\, Klavier)
ATTACH;FMTTYPE=image/jpeg:https://cottbus.de/wp-content/uploads/2024/12/bf
 8436289fe77bed79aed5c494c557d2f06cc00ab9e5d0ee8f3eb6f6ecdcb09b-scaled.jpg
CATEGORIES:Cottbus,Einzelveranstaltung,Konzert
LOCATION:Klosterkirche Cottbus\, Klosterplatz\, Cottbus\, 03046\, Brandenbu
 rg\, Deutschland
GEO:51.76165;14.333049
X-APPLE-STRUCTURED-LOCATION;VALUE=URI;X-ADDRESS=Klosterplatz\, Cottbus\, 03
 046\, Brandenburg\, Deutschland;X-APPLE-RADIUS=100;X-TITLE=Klosterkirche C
 ottbus:geo:51.76165,14.333049
END:VEVENT
BEGIN:VTIMEZONE
TZID:Europe/Berlin
X-LIC-LOCATION:Europe/Berlin
BEGIN:DAYLIGHT
DTSTART:20260329T030000
TZOFFSETFROM:+0100
TZOFFSETTO:+0200
TZNAME:CEST
END:DAYLIGHT
END:VTIMEZONE
END:VCALENDAR