BEGIN:VCALENDAR
VERSION:2.0
PRODID:-//wp-events-plugin.com//7.0.5//EN
TZID:Europe/Berlin
X-WR-TIMEZONE:Europe/Berlin
BEGIN:VEVENT
UID:30352@cottbus.de
DTSTART;TZID=Europe/Berlin:20260508T100000
DTEND;TZID=Europe/Berlin:20260724T163000
DTSTAMP:20260420T132448Z
URL:https://cottbus.de/veranstaltungen/moj-chosebuz-mein-cottbus/
SUMMARY:Mój Chóśebuz – Mein Cottbus
DESCRIPTION:Bernd Steinbrenner- Fotorealistische Malerei\nDie neue Ausstell
 ung im Wendischen Haus Cottbus/Chóśebuz zeigt Arbeiten des Cottbuser Kü
 nstlers Bernd Steinbrenner.\nIn Posen geboren und in Schlichow bei Cottbus
 /Chóśebuz aufgewachsen kam er durch sein Hobby\, der Fotografie\, zur Ma
 lerei. An der Universität Cottbus am Lehrstuhl für Angewandte Physik tä
 tig\, prägte ihn der Grundsatz\, immer exakt zu arbeiten. Sein Beruf brac
 hte ihn in die zeitgenössische Fotomalerei. Seine Bilder faszinieren durc
 h unglaubliche Detailtreue.\nDie Werke präsentieren die Lausitzer Schönh
 eit im Stil des Fotorealismus – und das nicht nur mit Bauwerken\, die se
 ine Heimat prägen. Auch die Bilder\, welche z.B. Scheunentore oder Fenste
 r alter Bauernhöfe zeigen\, ziehen den Betrachter in den Bann.\n\nDie Er
 öffnung findet am 07.05.2026 um 18 Uhr im Wendischen Haus statt.
ATTACH;FMTTYPE=image/jpeg:https://cottbus.de/wp-content/uploads/2026/04/Ei
 nladung_-1.jpg
LOCATION:Wendisches Haus\, August-Bebel-Straße 82\, Cottbus\, Brandenburg\
 , 03046\, Deutschland
X-APPLE-STRUCTURED-LOCATION;VALUE=URI;X-ADDRESS=August-Bebel-Straße 82\, C
 ottbus\, Brandenburg\, 03046\, Deutschland;X-APPLE-RADIUS=100;X-TITLE=Wend
 isches Haus:geo:0,0
END:VEVENT
BEGIN:VTIMEZONE
TZID:Europe/Berlin
X-LIC-LOCATION:Europe/Berlin
BEGIN:DAYLIGHT
DTSTART:20260329T030000
TZOFFSETFROM:+0100
TZOFFSETTO:+0200
TZNAME:CEST
END:DAYLIGHT
END:VTIMEZONE
END:VCALENDAR