BEGIN:VCALENDAR
VERSION:2.0
PRODID:-//wp-events-plugin.com//7.0.5//EN
TZID:Europe/Berlin
X-WR-TIMEZONE:Europe/Berlin
BEGIN:VEVENT
UID:408@cottbus.de
DTSTART;TZID=Europe/Berlin:20260207T200000
DTEND;TZID=Europe/Berlin:20260207T223000
DTSTAMP:20260207T031008Z
URL:https://cottbus.de/veranstaltungen/michelle-zum-letzten-mal-die-abschi
 edstournee/
SUMMARY:MICHELLE – Zum letzten Mal– Die Abschiedstournee
DESCRIPTION:Mit dem selbstbewussten Blick zurück auf eine beeindruckende 3
 0-jährige Karriere  \nkündigt MICHELLE ihre Abschiedstournee an.  \n“F
 lutlicht–Die Tournee 2026“ wird die Künstlerin ein letztes Mal quer d
 urch Deutschland  \nführen und für ihre Fans zu einem unvergesslichen Er
 lebnis werden.\n\nMichelles Konzerte sind bekannt für ihre beeindruckende
  Bühnenshow und da wird ihre  \nletzte Tournee keine Ausnahme sein. Die F
 ans können sich auf eine fesselnde  \nInszenierung\, beeindruckende Licht
 effekte und eine energiegeladene Darbietung freuen.  \nMichelle und ihre g
 roßartige Band werden die Bühne zum Beben bringen und das Publikum  \nmi
 t ihrer Leidenschaft und Musik verzaubern.\n\nDANKE\, MICHELLE!\n\nVeranst
 altung mit Pause\n
CATEGORIES:Einzelveranstaltung,Rock / Pop / Jazz
LOCATION:Stadthalle Cottbus\, Berliner Platz 6\, Cottbus\, 03046\, Brandenb
 urg\, Deutschland
GEO:51.761806488037;14.330492973328
X-APPLE-STRUCTURED-LOCATION;VALUE=URI;X-ADDRESS=Berliner Platz 6\, Cottbus\
 , 03046\, Brandenburg\, Deutschland;X-APPLE-RADIUS=100;X-TITLE=Stadthalle 
 Cottbus:geo:51.761806488037,14.330492973328
END:VEVENT
BEGIN:VTIMEZONE
TZID:Europe/Berlin
X-LIC-LOCATION:Europe/Berlin
BEGIN:STANDARD
DTSTART:20251026T020000
TZOFFSETFROM:+0200
TZOFFSETTO:+0100
TZNAME:CET
END:STANDARD
END:VTIMEZONE
END:VCALENDAR