BEGIN:VCALENDAR
VERSION:2.0
PRODID:-//wp-events-plugin.com//7.0.5//EN
TZID:Europe/Berlin
X-WR-TIMEZONE:Europe/Berlin
BEGIN:VEVENT
UID:30503@cottbus.de
DTSTART;TZID=Europe/Berlin:20260426T141500
DTEND;TZID=Europe/Berlin:20260426T161500
DTSTAMP:20260422T083932Z
URL:https://cottbus.de/veranstaltungen/michael-im-weltspiegel-cottbus-11/
SUMMARY:Michael - im Weltspiegel Cottbus
DESCRIPTION:Er ist einer der einflussreichsten Künstler aller Zeiten – d
 er King of Pop. MICHAEL ist das Portrait eines Ausnahmekünstlers\, dessen
  Musik die Welt bewegt und jede Generation bis heute inspiriert hat. Der F
 ilm erzählt die Geschichte von Michael Jacksons Leben – weit über die 
 Musik hinaus. Er zeichnet seinen Weg nach von der Entdeckung seines außer
 gewöhnlichen Talents als Leadsänger der Jackson Five bis hin zu dem visi
 onären Künstler\, dessen kreativer Ehrgeiz ihn unermüdlich antrieb\, de
 r größte Entertainer der Welt zu werden. Von einigen seiner legendären 
 Auftritte aus seiner frühen Solokarriere bis zu seinem Leben abseits der 
 Bühne – das Publikum hat einen Platz in der ersten Reihe bei einem nie 
 zuvor dagewesenen Blick auf das Leben der Pop-Ikone. Hier fängt seine Ges
 chichte an. Jaafar Jackson gibt mit MICHAEL sein Spielfilmdebüt. Neben ih
 m sind Nia Long (Empire\, Boyz n the Hood – Jungs im Viertel) und Laura 
 Harrier (BlacKkKlansman\, Spider-Man: Homecoming) zu sehen\, außerdem Mil
 es Teller (Top Gun: Maverick\, Whiplash) und der zweifach für den Oscar®
  nominierte Colman Domingo (Sing Sing\, Rustin). Regie führt Antoine Fuqu
 a\, der preisgekrönte Filmemacher u. a. von Training Day und der Equalize
 r-Reihe. Das Drehbuch schrieb der dreifach Oscar®-nominierte John Logan (
 Gladiator\, Aviator). Produziert wurde MICHAEL von Oscar®-Gewinner Graham
  King (Departed – Unter Feinden\, Bohemian Rhapsody)\, John Branca (Ausf
 ührender Produzent von Michael Jackson’s This Is It\, Thriller 40) und 
 John McClain (Ausführender Produzent von Michael Jackson’s This Is It\,
  Michael Jackson Live at Wembley July 16\, 1988).\nDauer: 128 min\, Sprach
 e: D\, Deutsch\, FSK: ab 6
ATTACH;FMTTYPE=image/jpeg:https://cottbus.de/wp-content/uploads/2026/04/20
 220930_130548-scaled.jpg
CATEGORIES:Cottbus,Film,Kino
LOCATION:Weltspiegel Cottbus\, Rudolf-Breitscheid-Straße 78\, Cottbus\, Br
 andenburg\,  03046 \, Lausitz\, Deutschland
X-APPLE-STRUCTURED-LOCATION;VALUE=URI;X-ADDRESS=Rudolf-Breitscheid-Straße 
 78\, Cottbus\, Brandenburg\,  03046 \, Lausitz\, Deutschland;X-APPLE-RADIU
 S=100;X-TITLE=Weltspiegel Cottbus:geo:0,0
END:VEVENT
BEGIN:VTIMEZONE
TZID:Europe/Berlin
X-LIC-LOCATION:Europe/Berlin
BEGIN:DAYLIGHT
DTSTART:20260329T030000
TZOFFSETFROM:+0100
TZOFFSETTO:+0200
TZNAME:CEST
END:DAYLIGHT
END:VTIMEZONE
END:VCALENDAR