BEGIN:VCALENDAR
VERSION:2.0
PRODID:-//wp-events-plugin.com//7.0.5//EN
TZID:Europe/Berlin
X-WR-TIMEZONE:Europe/Berlin
BEGIN:VEVENT
UID:820@cottbus.de
DTSTART;TZID=Europe/Berlin:20260528T193000
DTEND;TZID=Europe/Berlin:20260528T235900
DTSTAMP:20260422T131337Z
URL:https://cottbus.de/veranstaltungen/lisa-eckhart/
SUMMARY:Lisa Eckhart
DESCRIPTION:Ein harmloser Kinderwitz hat Lisa Eckhart um Haus und Hof\, Fam
 ilie und Fans gebracht.\nSie hat nichts mehr zu verlieren. Nicht einmal de
 n Verstand. Jetzt kann sie mehr denn je\ntun und sagen\, was sie will. Sie
  muss es sogar. Denn auch ein schlechter Ruf\nverpflichtet.
ATTACH;FMTTYPE=image/jpeg:https://cottbus.de/wp-content/uploads/2026/02/it
 em_404447_pic_1_contentwidth.jpg
CATEGORIES:Einzelveranstaltung,Lesung / Vortrag
LOCATION:CottbusService/ Stadthalle Cottbus\, Berliner Platz 6\, Cottbus\, 
 03046\, Brandenburg\, Deutschland
GEO:51.761814;14.330311
X-APPLE-STRUCTURED-LOCATION;VALUE=URI;X-ADDRESS=Berliner Platz 6\, Cottbus\
 , 03046\, Brandenburg\, Deutschland;X-APPLE-RADIUS=100;X-TITLE=CottbusServ
 ice/ Stadthalle Cottbus:geo:51.761814,14.330311
END:VEVENT
BEGIN:VTIMEZONE
TZID:Europe/Berlin
X-LIC-LOCATION:Europe/Berlin
BEGIN:DAYLIGHT
DTSTART:20260329T030000
TZOFFSETFROM:+0100
TZOFFSETTO:+0200
TZNAME:CEST
END:DAYLIGHT
END:VTIMEZONE
END:VCALENDAR