BEGIN:VCALENDAR
VERSION:2.0
PRODID:-//wp-events-plugin.com//7.0.5//EN
TZID:Europe/Berlin
X-WR-TIMEZONE:Europe/Berlin
BEGIN:VEVENT
UID:30540@cottbus.de
DTSTART;TZID=Europe/Berlin:20260427T193000
DTEND;TZID=Europe/Berlin:20260427T220000
DTSTAMP:20260422T090139Z
URL:https://cottbus.de/veranstaltungen/klassentreffen-alles-beim-alten-im-
 weltspiegel-cottbus-5/
SUMMARY:Klassentreffen - Alles beim Alten - im Weltspiegel Cottbus
DESCRIPTION:Zum 30. Abi-Jubiläum wollen die einst unzertrennlichen Freunde
  Hervé\, Maxime und Jordy ihre vermeintlich glorreichen Schulzeiten mit e
 iner großen Reunion-Party aufleben lassen. Doch ihre nostalgischen Vorste
 llungen prallen schnell auf die bittere Realität: Kaum jemand will kommen
  – allen voran Anne und Marion\, die das Event sogar aktiv sabotieren. Z
 um ersten Mal müssen sich die drei fragen\, ob sie früher vielleicht wir
 klich nicht mehr als eine Clique selbstgefälliger Angeber waren. Entschlo
 ssen\, das Ruder herumzureißen\, stürzen sie sich in eine chaotisch-witz
 ige Mission\, um ihr Image und die Party zu retten – und vor allem sich 
 selbst zu beweisen\, dass mehr in ihnen steckt…\nDauer: 107 min\, Sprach
 e: D\, Deutsch\, FSK: ab 12
ATTACH;FMTTYPE=image/jpeg:https://cottbus.de/wp-content/uploads/2026/04/20
 230404_072808-scaled.jpg
CATEGORIES:Cottbus,Film,Kino
LOCATION:Weltspiegel Cottbus\, Rudolf-Breitscheid-Straße 78\, Cottbus\, Br
 andenburg\,  03046 \, Lausitz\, Deutschland
X-APPLE-STRUCTURED-LOCATION;VALUE=URI;X-ADDRESS=Rudolf-Breitscheid-Straße 
 78\, Cottbus\, Brandenburg\,  03046 \, Lausitz\, Deutschland;X-APPLE-RADIU
 S=100;X-TITLE=Weltspiegel Cottbus:geo:0,0
END:VEVENT
BEGIN:VTIMEZONE
TZID:Europe/Berlin
X-LIC-LOCATION:Europe/Berlin
BEGIN:DAYLIGHT
DTSTART:20260329T030000
TZOFFSETFROM:+0100
TZOFFSETTO:+0200
TZNAME:CEST
END:DAYLIGHT
END:VTIMEZONE
END:VCALENDAR