BEGIN:VCALENDAR
VERSION:2.0
PRODID:-//wp-events-plugin.com//7.0.5//EN
TZID:Europe/Berlin
X-WR-TIMEZONE:Europe/Berlin
BEGIN:VEVENT
UID:489@cottbus.de
DTSTART;TZID=Europe/Berlin:20251210T180000
DTEND;TZID=Europe/Berlin:20251210T235959
DTSTAMP:20251118T033126Z
URL:https://cottbus.de/veranstaltungen/kastelruther-spatzen-das-weihnachts
 konzert-2025/
SUMMARY:Kastelruther Spatzen - Das Weihnachtskonzert 2025
DESCRIPTION:Information der Kastelruther Spatzen am 17.09.2025:  \nTrotz de
 r notwendigen Herz-OP des Sängerns Norbert Rier findet das Weihnachtskonz
 ert in der Stadthalle Cottbus statt. Teilweise wird sein Sohn Alexander de
 n Sänger vertreten und gemeinsam mit mit den Spatzen die Fans begeistern.
 \n\nErfolg und Langfristigkeit müssen im Musikgeschäft nicht zwingend Ha
 nd in Hand gehen.  \nIn einer Branche der schnellen Lieder werden nur die 
 beständigsten Karrieren in Dekaden gerechnet und wenn sich 40 Jahre Konti
 nuität angesammelt hat\, ist wohl jede Nachfrage überflüssig. Am deutli
 chsten lässt sich im Showgeschäft langfristiger Erfolg dann erkennen\, w
 enn die Karriere der Künstler die Auszeichnungsreigen deutlich überlebt.
  Die Kastelruther Spatzen haben 5 x ‚Die Goldene Stimmgabel‘ sowie meh
 rere ‚Kronen der Volksmusik‘ erhalten und den ‚Grand Prix der Volksm
 usik‘ gewonnen. Diese 3 Award-Shows sind mittlerweile längst TV-Geschic
 hte aber die Spatzen hingegen\, stehen nach wie vor in alter Frische am Ze
 nit...\n
CATEGORIES:Chor / Folklore / Volksmusik,Einzelveranstaltung
LOCATION:Stadthalle Cottbus\, Berliner Platz 6\, Cottbus\, 03046\, Brandenb
 urg\, Deutschland
GEO:51.761806488037;14.330492973328
X-APPLE-STRUCTURED-LOCATION;VALUE=URI;X-ADDRESS=Berliner Platz 6\, Cottbus\
 , 03046\, Brandenburg\, Deutschland;X-APPLE-RADIUS=100;X-TITLE=Stadthalle 
 Cottbus:geo:51.761806488037,14.330492973328
END:VEVENT
BEGIN:VTIMEZONE
TZID:Europe/Berlin
X-LIC-LOCATION:Europe/Berlin
BEGIN:STANDARD
DTSTART:20251026T020000
TZOFFSETFROM:+0200
TZOFFSETTO:+0100
TZNAME:CET
END:STANDARD
END:VTIMEZONE
END:VCALENDAR