BEGIN:VCALENDAR
VERSION:2.0
PRODID:-//wp-events-plugin.com//7.0.5//EN
TZID:Europe/Berlin
X-WR-TIMEZONE:Europe/Berlin
BEGIN:VEVENT
UID:30303@cottbus.de
DTSTART;TZID=Europe/Berlin:20260429T180000
DTEND;TZID=Europe/Berlin:20260429T200000
DTSTAMP:20260420T094949Z
URL:https://cottbus.de/veranstaltungen/karosh-taha-liest-im-spreewald/
SUMMARY:Karosh Taha liest im Spreewald
DESCRIPTION:Taha liest aus ihrem vielfach ausgezeichneten Roman „Im Bauch
  der Königin“\, einer eindringlichen Coming-of-Age-Geschichte über Mig
 ration\, Identität und Erwachsenwerden.\n\nOrt: Literatursalon\, Hotel Bl
 eiche Resort &amp\; Spa\, Bleichestr. 16\, 03096 Burg (Spreewald)\nAnmeldu
 ng erbeten: Tel. 035603–620 | buchhandlung@bleiche.de\n\nÜber die Autor
 in\nKarosh Taha wurde in Zaxo (Kurdistan) geboren und studierte Anglistik 
 und Geschichte in Duisburg-Essen sowie in Kansas. Sie lebt in Köln. Für 
 ihre Romane „Beschreibung einer Krabbenwanderung“ (2018) und „Im Bau
 ch der Königin“ (2020) wurde sie vielfach ausgezeichnet. Zu ihren Ehrun
 gen zählen unter anderem die Alfred-Döblin-Medaille sowie das Spreewald-
 Literaturstipendium 2025/26.
CATEGORIES:Burg,Einzelveranstaltung,Lesung / Vortrag
LOCATION:Hotel Bleiche Resort & Spa\, Bleichestraße 16\, Burg/Spreewald\, 
 Brandenburg\, 03096\, Lausitz\, Deutschland
X-APPLE-STRUCTURED-LOCATION;VALUE=URI;X-ADDRESS=Bleichestraße 16\, Burg/Sp
 reewald\, Brandenburg\, 03096\, Lausitz\, Deutschland;X-APPLE-RADIUS=100;X
 -TITLE=Hotel Bleiche Resort & Spa:geo:0,0
END:VEVENT
BEGIN:VTIMEZONE
TZID:Europe/Berlin
X-LIC-LOCATION:Europe/Berlin
BEGIN:DAYLIGHT
DTSTART:20260329T030000
TZOFFSETFROM:+0100
TZOFFSETTO:+0200
TZNAME:CEST
END:DAYLIGHT
END:VTIMEZONE
END:VCALENDAR