BEGIN:VCALENDAR
VERSION:2.0
PRODID:-//wp-events-plugin.com//7.0.5//EN
TZID:Europe/Berlin
X-WR-TIMEZONE:Europe/Berlin
BEGIN:VEVENT
UID:30304@cottbus.de
DTSTART;TZID=Europe/Berlin:20260422T180000
DTEND;TZID=Europe/Berlin:20260422T200000
DTSTAMP:20260420T094011Z
URL:https://cottbus.de/veranstaltungen/karosh-taha-liest-im-spreewald-2/
SUMMARY:Karosh Taha liest im Spreewald
DESCRIPTION:Taha gibt Einblicke in ihr neues Romanprojekt „Gulistan“ (A
 rbeitstitel)\, das im Herbst 2026 im DuMont Verlag erscheint. Der Roman ve
 rbindet politische Fiktion mit Fragen von Identität.\n\nÜber die Autorin
 \nKarosh Taha wurde in Zaxo (Kurdistan) geboren und studierte Anglistik un
 d Geschichte in Duisburg-Essen sowie in Kansas. Sie lebt in Köln. Für ih
 re Romane „Beschreibung einer Krabbenwanderung“ (2018) und „Im Bauch
  der Königin“ (2020) wurde sie vielfach ausgezeichnet. Zu ihren Ehrunge
 n zählen unter anderem die Alfred-Döblin-Medaille sowie das Spreewald-Li
 teraturstipendium 2025/26.\n\nOrt: Literatursalon\, Hotel Bleiche Resort &
 amp\; Spa\, Bleichestr. 16\, 03096 Burg (Spreewald)\nAnmeldung erbeten: Te
 l. 035603–620 | buchhandlung@bleiche.de
CATEGORIES:Burg,Einzelveranstaltung,Lesung / Vortrag
LOCATION:Hotel Bleiche Resort & Spa\, Bleichestraße 16\, Burg/Spreewald\, 
 Brandenburg\, 03096\, Lausitz\, Deutschland
X-APPLE-STRUCTURED-LOCATION;VALUE=URI;X-ADDRESS=Bleichestraße 16\, Burg/Sp
 reewald\, Brandenburg\, 03096\, Lausitz\, Deutschland;X-APPLE-RADIUS=100;X
 -TITLE=Hotel Bleiche Resort & Spa:geo:0,0
END:VEVENT
BEGIN:VTIMEZONE
TZID:Europe/Berlin
X-LIC-LOCATION:Europe/Berlin
BEGIN:DAYLIGHT
DTSTART:20260329T030000
TZOFFSETFROM:+0100
TZOFFSETTO:+0200
TZNAME:CEST
END:DAYLIGHT
END:VTIMEZONE
END:VCALENDAR