BEGIN:VCALENDAR
VERSION:2.0
PRODID:-//wp-events-plugin.com//7.0.5//EN
TZID:Europe/Berlin
X-WR-TIMEZONE:Europe/Berlin
BEGIN:VEVENT
UID:30461@cottbus.de
DTSTART;TZID=Europe/Berlin:20260507T143000
DTEND;TZID=Europe/Berlin:20260507T160000
DTSTAMP:20260421T140350Z
URL:https://cottbus.de/veranstaltungen/infotalk-an-der-deb-berufsfachschul
 e-in-cottbus/
SUMMARY:INFOTALK AN DER DEB-BERUFSFACHSCHULE IN COTTBUS
DESCRIPTION:Das Deutsche Erwachsenen-Bildungswerk (DEB) lädt Interessierte
  herzlich zu einem Infotalk an seine Berufsfachschule für Sozialwesen in 
 der Parzellenstraße 10 in Cottbus ein. Die Besucherinnen und Besucher hab
 en die Gelegenheit\, die Schule kennenzulernen und sich umfassend über Au
 sbildungsmöglichkeiten im sozialen Bereich zu informieren.\nIm Mittelpunk
 t stehen die Ausbildungen zum Sozialassistenten (m/w/d) und zum Erzieher (
 m/w/d). Die Besucherinnen und Besucher erwartet ein vielseitiges Programm\
 , das aktiv von den Schülerinnen und Schülern mitgestaltet wird. Neben S
 chulführungen werden persönliche Beratungs- und Informationsgespräche a
 ngeboten\, die Einblicke in Bewerbungsverfahren\, Unterrichtsinhalte und b
 erufliche Perspektiven ermöglichen.\nAngesprochen sind sowohl Schulabsolv
 entinnen und Schulabsolventen als auch Quereinsteigerinnen und Quereinstei
 ger sowie alle\, die sich beruflich neu orientieren oder weiterentwickeln 
 möchten.\n\nSchnupperunterricht bereits ab 13:30 Uhr\nWer schon eine Stun
 de früher kommen möchte\, hat die Möglichkeit\, ab 13:30 Uhr für 90 Mi
 nuten am Unterricht teilzunehmen und so einen authentischen Eindruck vom S
 chulalltag zu gewinnen. Eine kurze Anmeldung zum Schnupperunterricht ist p
 er E-Mail an cottbus@deb-gruppe.org möglich.\nWeitere Informationen zur V
 eranstaltung und zu den Ausbildungsangeboten gibt es unter www.deb.de. Wer
  seine Bewerbungsunterlagen für den Ausbildungsstart im August 2026 direk
 t abgeben möchte\, kann diese gerne mitbringen.
CATEGORIES:Cottbus,Einzelveranstaltung,Weiterbildung
LOCATION:DEUTSCHES ERWACHSENEN-BILDUNGSWERK IN BRANDENBURG gemeinnützige S
 chulträger-GmbH\, Parzellenstraße 10\, Cottbus\, Brandenburg\, 03046\, L
 ausitz\, Deutschland
X-APPLE-STRUCTURED-LOCATION;VALUE=URI;X-ADDRESS=Parzellenstraße 10\, Cottb
 us\, Brandenburg\, 03046\, Lausitz\, Deutschland;X-APPLE-RADIUS=100;X-TITL
 E=DEUTSCHES ERWACHSENEN-BILDUNGSWERK IN BRANDENBURG gemeinnützige Schultr
 äger-GmbH:geo:0,0
END:VEVENT
BEGIN:VTIMEZONE
TZID:Europe/Berlin
X-LIC-LOCATION:Europe/Berlin
BEGIN:DAYLIGHT
DTSTART:20260329T030000
TZOFFSETFROM:+0100
TZOFFSETTO:+0200
TZNAME:CEST
END:DAYLIGHT
END:VTIMEZONE
END:VCALENDAR