BEGIN:VCALENDAR
VERSION:2.0
PRODID:-//wp-events-plugin.com//7.0.5//EN
TZID:Europe/Berlin
X-WR-TIMEZONE:Europe/Berlin
BEGIN:VEVENT
UID:30523@cottbus.de
DTSTART;TZID=Europe/Berlin:20260422T193000
DTEND;TZID=Europe/Berlin:20260422T213000
DTSTAMP:20260422T085142Z
URL:https://cottbus.de/veranstaltungen/how-to-make-a-killing-todsicheres-e
 rbe-im-weltspiegel-cottbus/
SUMMARY:How to Make a Killing - Todsicheres Erbe - im Weltspiegel Cottbus
DESCRIPTION:Becket Redfellow hat Witz\, Stil\, Bildung und Charme. Doch ein
 es besitzt er nach wie vor nicht – das milliardenschwere Vermögen\, das
  ihm laut seiner Mutter von Geburt an zusteht. Seine Mutter Mary\, einst E
 rbin des gewaltigen Redfellow-Imperiums\, wurde von ihrer einflussreichen 
 Familie bei Beckets Geburt verstoßen und starb völlig verarmt. Jetzt ist
  ihr charismatischer\, vom Drang nach Höherem getriebener Sohn fest entsc
 hlossen\, all das zurückzuholen\, was er für gestohlen hält. Becket ent
 wickelt einen raffiniert-mörderischen Plan\, um die sieben Redfellow-Verw
 andten\, die zwischen ihm und dem Familienbesitz stehen\, aus dem Weg zu r
 äumen. Während die Erben einer nach dem anderen in einer Reihe von köst
 lich einfallsreichen „Unfällen“ ums Leben kommen\, muss Becket der Be
 ziehung zu seiner neuen Freundin Ruth gerecht werden und sich gleichzeitig
  den gefährlich koketten Avancen seiner Jugendliebe Julia stellen.\nDauer
 : 106 min\, Sprache: D\, Deutsch\, FSK: ab 12
ATTACH;FMTTYPE=image/jpeg:https://cottbus.de/wp-content/uploads/2026/04/20
 230404_072808-scaled.jpg
CATEGORIES:Cottbus,Film,Kino
LOCATION:Weltspiegel Cottbus\, Rudolf-Breitscheid-Straße 78\, Cottbus\, Br
 andenburg\,  03046 \, Lausitz\, Deutschland
X-APPLE-STRUCTURED-LOCATION;VALUE=URI;X-ADDRESS=Rudolf-Breitscheid-Straße 
 78\, Cottbus\, Brandenburg\,  03046 \, Lausitz\, Deutschland;X-APPLE-RADIU
 S=100;X-TITLE=Weltspiegel Cottbus:geo:0,0
END:VEVENT
BEGIN:VTIMEZONE
TZID:Europe/Berlin
X-LIC-LOCATION:Europe/Berlin
BEGIN:DAYLIGHT
DTSTART:20260329T030000
TZOFFSETFROM:+0100
TZOFFSETTO:+0200
TZNAME:CEST
END:DAYLIGHT
END:VTIMEZONE
END:VCALENDAR