BEGIN:VCALENDAR
VERSION:2.0
PRODID:-//wp-events-plugin.com//7.0.5//EN
TZID:Europe/Berlin
X-WR-TIMEZONE:Europe/Berlin
BEGIN:VEVENT
UID:30526@cottbus.de
DTSTART;TZID=Europe/Berlin:20260424T171500
DTEND;TZID=Europe/Berlin:20260424T184500
DTSTAMP:20260422T085617Z
URL:https://cottbus.de/veranstaltungen/horst-schlaemmer-sucht-das-glueck-i
 m-weltspiegel-cottbus-2/
SUMMARY:Horst Schlämmer sucht das Glück - im Weltspiegel Cottbus
DESCRIPTION:Horst Schlämmer hat die Faxen dicke: Die Preise steigen\, die 
 Stimmung sinkt\, die Kneipen schließen. Kurzum: Deutschland hat Rücken! 
 Und zwar im Gesicht. Also geht der stellvertretende Chefredakteur vom „G
 revenbroicher Tagblatt“ auf eine große Reise mit noch größerem Ziel: 
 Er will den Leuten ihr Lächeln zurückbringen! Doch wie wird man glückli
 ch? Schwere Zeiten verlangen nach klaren Antworten – und weil man die in
  Grevenbroich nicht finden kann\, begibt sich Horst Schlämmer auf die Rei
 se seines Lebens: Von Süddeutschland bis Sylt\, von Berlin bis Büsum –
  per Anhalter\, Krabbenkutter oder Schienenersatzverkehr. Er trifft Passan
 ten\, Promis und Psychologen\, fragt knallhart nach und verliert\, trotz v
 ieler Rückschläge\, nie seine Mission aus den Augen: Die Menschen wieder
  glücklich zu machen!\nDauer: 93 min\, Sprache: D\, Deutsch\, FSK: ab 6
ATTACH;FMTTYPE=image/jpeg:https://cottbus.de/wp-content/uploads/2026/04/20
 230404_072808-scaled.jpg
CATEGORIES:Cottbus,Film,Kino
LOCATION:Weltspiegel Cottbus\, Rudolf-Breitscheid-Straße 78\, Cottbus\, Br
 andenburg\,  03046 \, Lausitz\, Deutschland
X-APPLE-STRUCTURED-LOCATION;VALUE=URI;X-ADDRESS=Rudolf-Breitscheid-Straße 
 78\, Cottbus\, Brandenburg\,  03046 \, Lausitz\, Deutschland;X-APPLE-RADIU
 S=100;X-TITLE=Weltspiegel Cottbus:geo:0,0
END:VEVENT
BEGIN:VTIMEZONE
TZID:Europe/Berlin
X-LIC-LOCATION:Europe/Berlin
BEGIN:DAYLIGHT
DTSTART:20260329T030000
TZOFFSETFROM:+0100
TZOFFSETTO:+0200
TZNAME:CEST
END:DAYLIGHT
END:VTIMEZONE
END:VCALENDAR