BEGIN:VCALENDAR
VERSION:2.0
PRODID:-//wp-events-plugin.com//7.0.5//EN
TZID:Europe/Berlin
X-WR-TIMEZONE:Europe/Berlin
BEGIN:VEVENT
UID:30356@cottbus.de
DTSTART;TZID=Europe/Berlin:20260508T120000
DTEND;TZID=Europe/Berlin:20260508T200000
DTSTAMP:20260421T080108Z
URL:https://cottbus.de/veranstaltungen/holy-flow-on-tour-vielfalt-in-brand
 enburg-erleben-station-in-cottbus-2/
SUMMARY:Holy Flow on Tour – Vielfalt in Brandenburg erleben - Station in 
 Cottbus
DESCRIPTION:Interreligiöses Festival | 2.–10. Mai 2026 Stationen: Lübbe
 nau\, Burg/Spreewald\, Cottbus\, Forst (Lausitz)\n„Was ist dir heilig?
 “ – mit dieser Frage reist das Tiny House vom 2.–10. Mai durch Brand
 enburg – von Wittbrietzen über den Spreewald bis nach Cottbus und Forst
  (Lausitz) und lädt dazu ein\, gemeinsam Antworten zu finden: im Gespräc
 h\, in Workshops oder anhand eines mitgebrachten persönlichen Objekts.\nD
 as künstlerisch gestaltete Tiny House wird zum mobilen Ort für Austausch
 \, Kreativität und Begegnung zwischen Menschen unterschiedlicher Religion
 en\, Kulturen und Generationen.\nDen Auftakt bildet ein zweitägiges Progr
 amm am 2. und 3. Mai in Wittbrietzen. Dort wird das Tiny House gemeinsam m
 it der bildenden Künstlerin Anna Adam und den Besucher:innen „weiterged
 acht“: durch künstlerische Mitmachaktionen\, Atelierführungen und Gesp
 räche.\nDanach führt die Reise in den Spreewald und die Lausitz – und 
 wirft Fragen auf\, die die Region bewegen: Identität\, Strukturwandel und
  Zukunft. In Burg liest die Schriftstellerin Manja Präkels aus ihren Schr
 iften zum ländlichen Raum in Brandenburg und kommt anschließend mit der 
 Soziologin und Co-Kuratorin des Projektes Dr. Vanessa Rau ins Gespräch. I
 n Cottbus lädt der Religionswissenschaftler Simon Marwecki zu Diskussione
 n über Religion in der Öffentlichkeit ein\, begleitet von Improvisations
 tanz-Mitmachaktion mit Ioannis Avoukamidis und Theaterworkshop mit Till Ba
 umann. In Lübbenau gibt es ein interreligiöses Gespräch mit dem Aktivis
 ten Shai Hoffmann.\nJede Station setzt dabei eigene Akzente: lokale Initia
 tiven\, Religionsgemeinschaften und zivilgesellschaftliche Akteur:innen br
 ingen ihre Perspektiven ein. So erklingt in Cottbus Klezmer-Musik mit dem 
 Duo „Sapo-Gi“\, während in Forst ein Gaming-Workshop zum Thema „Arm
 ageddon“ ungewöhnliche Zugänge eröffnet.\nAm 9. und 10. Mai bilden in
  Forst (Lausitz) Paneldiskussionen\, ein Minecraft-Workshop\, ein Kalligra
 fie-Workshop\, ein Konzert des interreligiösen Ensembles Coexist sowie ei
 n interreligiöser Gottesdienst und die Finissage der Ausstellung den Absc
 hluss des Festivals.\nBesucher:innen sind an allen Orten eingeladen\, pers
 önliche Gegenstände mitzubringen\, die für sie eine besondere Bedeutung
  haben. Diese können sie im Gespräch\, in Workshops und im gemeinsamen A
 ustausch teilen. Die mitgebrachten Objekte\, ihre Geschichten und Fotos we
 rden schließlich in einer Ausstellung in Forst (Lausitz) präsentiert und
  setzen so ein gemeinsames\, sichtbares Zeichen des interreligiösen Dialo
 gs und der vielfältigen Erfahrungen aus ganz Brandenburg.\n\nStationen in
  der Lausitz:\n5. Mai\, 10:00 – 20:00 - Kirche St. Nikolai\, Winkelgasse
  2\, 03222 Lübbenau\n6. Mai\, 12:00 – 20:30 - Evangelische Kirchengemei
 nde Burg Spreewald\, Kirchweg 22\, 03096 Burg\n7.-8. Mai\, 12:00 – 20:00
  - Oberkirche St. Nikolai\, Oberkirchplatz 12\, 03046 Cottbus\n9. Mai\, 9:
 00 – 20:00\, Stadtkirche St. Nikolai\, Am Markt 1\, 03149 Forst\n10. Mai
 \, 10:00 – 18:00\, Forster Museum für Textil- und Industriegeschichte L
 ausitz\, Sorauer Str. 37\, 03149 Forst (Lausitz)\n\nWeitere Informationen 
 über das Projekt\, die Künstlerinnen und Künstler sowie das Programm:\n
 http://holy-flow.org\nhttps://www.instagram.com/holyflow.dialog/\n\nÜber 
 Holy Flow\nHoly Flow ist ein interreligiöses Kunst- und Dialogprojekt aus
  Brandenburg. Es verbindet\, künstlerische Praxis\, interreligiöse Ansä
 tze und zu einem mobilen Format\, das insbesondere im ländlichen Raum neu
 e Begegnungsräume schafft.\nVeranstaltet wird das Projekt von einem inter
 religiösen Team in Kooperation mit der Evangelischen Gesamtkirchengemeind
 e Region Forst (Lausitz)\, dem Zentrum für Dialog und Wandel (Cottbus)\, 
 dem Ökumenischen Zentrum der Evangelischen Kirche Berlin-Brandenburg-schl
 esische Oberlausitz und der Evangelischen Landeskirche Anhalts Berliner Mi
 ssionswerk sowie anderen Partnern. Das Projekt wird aus Mitteln des Landes
  Brandenburg und vom Bundesministerium für Wirtschaft und Energie geförd
 ert.
ATTACH;FMTTYPE=image/jpeg:https://cottbus.de/wp-content/uploads/2026/04/Ho
 ly-Flow-Plakat-Cottbus.png
CATEGORIES:Cottbus,Einzelveranstaltung,Gespräch,Kirche/Religion
LOCATION:Oberkirche St. Nikolai\, Oberkirchplatz 12\, Cottbus\, 03046\, Bra
 ndenburg\, Deutschland
GEO:51.761147;14.336635
X-APPLE-STRUCTURED-LOCATION;VALUE=URI;X-ADDRESS=Oberkirchplatz 12\, Cottbus
 \, 03046\, Brandenburg\, Deutschland;X-APPLE-RADIUS=100;X-TITLE=Oberkirche
  St. Nikolai:geo:51.761147,14.336635
END:VEVENT
BEGIN:VTIMEZONE
TZID:Europe/Berlin
X-LIC-LOCATION:Europe/Berlin
BEGIN:DAYLIGHT
DTSTART:20260329T030000
TZOFFSETFROM:+0100
TZOFFSETTO:+0200
TZNAME:CEST
END:DAYLIGHT
END:VTIMEZONE
END:VCALENDAR