BEGIN:VCALENDAR
VERSION:2.0
PRODID:-//wp-events-plugin.com//7.0.5//EN
TZID:Europe/Berlin
X-WR-TIMEZONE:Europe/Berlin
BEGIN:VEVENT
UID:30302@cottbus.de
DTSTART;TZID=Europe/Berlin:20260425T110000
DTEND;TZID=Europe/Berlin:20260425T150000
DTSTAMP:20260420T091503Z
URL:https://cottbus.de/veranstaltungen/history-hub-in-cottbus-themenworksh
 op-von-cottbus-history-hub-am-menschenrechtszentrum/
SUMMARY:HISTORY HUB in Cottbus! - Themenworkshop von Cottbus History Hub am
  Menschenrechtszentrum
DESCRIPTION:In Kooperation mit dem Jugendkulturzentrum GLADHOUSE\, dem Thea
 terwerk Romy Fröhlich &amp\; Maria Schneider\, der Caritas mit ihrem Proj
 ekt youngcaritas und den Städtischen Sammlungen Cottbus hat das Menschenr
 echtszentrum das Projekt Cottbus History Hub ins Leben gerufen.\n\nCottbus
  History Hub bietet jungen Menschen von 12 bis 27 Jahren die Möglichkeit 
 sich anhand verschiedener kreativer Methoden mit den Mechanismen und Macht
 ausübungen einer Diktatur wie der DDR auseinanderzusetzen und sich und se
 ine Ideen vielfältig einzubringen: In einer Podcastreihe\, beim kreativen
  Schreiben\, beim Theaterspielen oder als Teil der begleitenden Jugendcamp
 s.\n\nCottbus History Hub hat eine Laufzeit von drei Themenjahren. 2026 ge
 ht es um Fragen von Recht und Unrecht\, 2027 um die Auseinandersetzung mit
  gewaltigen Mächten und 2028 um den Einfluss von Meinungsmache. Die Ergeb
 nisse aus den unterschiedlichen Formaten werden einmal jährlich als gemei
 nsamer Abschluss der Öffentlichkeit präsentiert.\n\nAm 25. April findet 
 der thematische Einstieg in das erste Projektjahr Recht und Unrecht im Men
 schenrechtszentrum statt. Wie war das damals in der DDR? Gab es die gleich
 en Rechte und Möglichkeiten wie heute? Wer wurde in der SED-Diktatur poli
 tisch verfolgt und warum? Hatten junge Menschen freie Entfaltungsmöglichk
 eiten? Wie war es\, nicht der Norm der “sozialistischen Persönlichkeit
 ” zu entsprechen? Nach dem gemeinsamen Mittagessen gibt es die Möglichk
 eit mit dem Zeitzeugen Gilbert Furian\, der 1986 in Cottbus inhaftiert war
 \, ins Gespräch zu kommen.\n\nBitte melde dich zu den Auftaktworkshops un
 ter folgender Mail-Adresse an:\ninfo@cottbus-history-hub.de\n\n&nbsp\;
ATTACH;FMTTYPE=image/jpeg:https://cottbus.de/wp-content/uploads/2026/04/CH
 H_Flyer-1.png
LOCATION:Menschenrechtszentrum Cottbus e.V. - Gedenkstätte Zuchthaus Cottb
 us\, Bautzener Straße 140\, Cottbus\, 03050\, Brandenburg\, Deutschland
GEO:51.748496;14.337684
X-APPLE-STRUCTURED-LOCATION;VALUE=URI;X-ADDRESS=Bautzener Straße 140\, Cot
 tbus\, 03050\, Brandenburg\, Deutschland;X-APPLE-RADIUS=100;X-TITLE=Mensch
 enrechtszentrum Cottbus e.V. - Gedenkstätte Zuchthaus Cottbus:geo:51.7484
 96,14.337684
END:VEVENT
BEGIN:VTIMEZONE
TZID:Europe/Berlin
X-LIC-LOCATION:Europe/Berlin
BEGIN:DAYLIGHT
DTSTART:20260329T030000
TZOFFSETFROM:+0100
TZOFFSETTO:+0200
TZNAME:CEST
END:DAYLIGHT
END:VTIMEZONE
END:VCALENDAR