BEGIN:VCALENDAR
VERSION:2.0
PRODID:-//wp-events-plugin.com//7.0.5//EN
TZID:Europe/Berlin
X-WR-TIMEZONE:Europe/Berlin
BEGIN:VEVENT
UID:30481@cottbus.de
DTSTART;TZID=Europe/Berlin:20260426T180000
DTEND;TZID=Europe/Berlin:20260426T190000
DTSTAMP:20260422T073011Z
URL:https://cottbus.de/veranstaltungen/gottesdienst-in-der-martinskirche-1
 0/
SUMMARY:Violine\, Akkordeon und Orgel in der Martinskirche
DESCRIPTION:mit Konstanze Schröder – Violine – und Sarah Smith – Akk
 ordeon und Orgel
CATEGORIES:Cottbus,Einzelveranstaltung,Konzert
LOCATION:Martinskirche Cottbus\, Madlower Schulstraße 2\, 03050 Cottbus\, 
 Cottbus\, Brandenburg\, 03050\, Deutschland
X-APPLE-STRUCTURED-LOCATION;VALUE=URI;X-ADDRESS=Madlower Schulstraße 2\, 0
 3050 Cottbus\, Cottbus\, Brandenburg\, 03050\, Deutschland;X-APPLE-RADIUS=
 100;X-TITLE=Martinskirche Cottbus:geo:0,0
END:VEVENT
BEGIN:VTIMEZONE
TZID:Europe/Berlin
X-LIC-LOCATION:Europe/Berlin
BEGIN:DAYLIGHT
DTSTART:20260329T030000
TZOFFSETFROM:+0100
TZOFFSETTO:+0200
TZNAME:CEST
END:DAYLIGHT
END:VTIMEZONE
END:VCALENDAR