BEGIN:VCALENDAR
VERSION:2.0
PRODID:-//wp-events-plugin.com//7.0.5//EN
TZID:Europe/Berlin
X-WR-TIMEZONE:Europe/Berlin
BEGIN:VEVENT
UID:30467@cottbus.de
DTSTART;TZID=Europe/Berlin:20260503T090000
DTEND;TZID=Europe/Berlin:20260503T100000
DTSTAMP:20260422T060919Z
URL:https://cottbus.de/veranstaltungen/gottesdienst-in-branitz-5/
SUMMARY:Gottesdienst in Branitz
DESCRIPTION:K. Proffen
CATEGORIES:Cottbus,Einzelveranstaltung,Gottesdienst
LOCATION:Gemeindehaus Branitz\, An der Aue 13\, Cottbus\, Brandenburg\, 030
 42\, Deutschland
X-APPLE-STRUCTURED-LOCATION;VALUE=URI;X-ADDRESS=An der Aue 13\, Cottbus\, B
 randenburg\, 03042\, Deutschland;X-APPLE-RADIUS=100;X-TITLE=Gemeindehaus B
 ranitz:geo:0,0
END:VEVENT
BEGIN:VTIMEZONE
TZID:Europe/Berlin
X-LIC-LOCATION:Europe/Berlin
BEGIN:DAYLIGHT
DTSTART:20260329T030000
TZOFFSETFROM:+0100
TZOFFSETTO:+0200
TZNAME:CEST
END:DAYLIGHT
END:VTIMEZONE
END:VCALENDAR