BEGIN:VCALENDAR
VERSION:2.0
PRODID:-//wp-events-plugin.com//7.0.5//EN
TZID:Europe/Berlin
X-WR-TIMEZONE:Europe/Berlin
BEGIN:VEVENT
UID:25670@cottbus.de
DTSTART;TZID=Europe/Berlin:20260126T180000
DTEND;TZID=Europe/Berlin:20260126T200000
DTSTAMP:20260124T030622Z
URL:https://cottbus.de/veranstaltungen/gespraechsbereit-sroka-sorbische-sp
 rache-neu-entdecken-k-powedanju-zwolne-serbsku-rec-nowo-nadejs/
SUMMARY:Gesprächsbereit – SROKA: Sorbische Sprache neu entdecken K powě
 danju zwólne – Serbsku rěc nowo nadejś
DESCRIPTION:Die sorbische/wendische Sprache ist in der Lausitz allgegenwär
 tig – und doch oft leise. Sie begegnet uns auf Ortsschildern\, in Bräuc
 hen\, in Liedern\, in einzelnen Familiengeschichten. Meist nehmen wir sie 
 beiläufig wahr. Aber was passiert\, wenn wir genauer hinhören? Wenn wir 
 ihr Raum geben? Dann öffnet sich ein vielschichtiger Blick auf Geschichte
 \, Gegenwart und Zukunft der Region.\n\nGemeinsam mit dem **Sorbischen Ins
 titut** laden wir herzlich zu einer besonderen Ausgabe von **Gesprächsber
 eit** ein. Im Mittelpunkt steht das Projekt **SROKA** \, ein innovativer A
 nsatz zur Revitalisierung der sorbischen Sprache in der Niederlausitz.\n\n
 **📅 Montag\, 26. Januar 2026 | 18:00–20:00 Uhr**  \n**📍 COCO – S
 tadtlabor Commoning Cottbus\, Burgstraße 21/22\, 03046 Cottbus**  \n**
 💰 Teilnahme kostenlos**  \n**🍽 Getränke und kleine Snacks inklusive
 **\n\nSROKA – das sorbische Wort für _Elster_ – steht sinnbildlich f
 ür Aufmerksamkeit\, Sammeln und Weitertragen. Genau darum geht es: Gemein
 sam mit der Community wird daran gearbeitet\, wie Sorbisch/Wendisch wieder
  hörbarer\, sichtbarer und selbstverständlicher Teil des Alltags werden 
 kann.\n\nAn diesem Abend geben **Sophie Rädel** (Projektmitarbeiterin) un
 d **Saskia Bugajowa** (Sprecherin der Strategiegruppe) Einblicke in die bi
 sherigen Erkenntnisse und laden ausdrücklich zum Mitdenken und Mitdiskuti
 eren ein. Es geht um klare Fragen\, ohne Umwege:\n\nWelche Rolle kann die 
 sorbische/wendische Sprache im Strukturwandel der Lausitz spielen?\n\nWo g
 ibt es konkrete Möglichkeiten zur Unterstützung und Mitwirkung?\n\nUnd g
 anz praktisch: Wie würde unser Alltag aussehen\, wenn Sorbisch/Wendisch w
 ieder selbstverständlich präsent wäre?\n\nGesprächsbereit heißt: zuh
 ören\, nachfragen\, Position beziehen. Offen\, respektvoll und neugierig.
  Zusätzlich schreiben wir gemeinsam Postkarten mit kleinen sorbischen Gr
 üßen – zum Verschicken\, Weitergeben oder Behalten.\n\nEin Abend für 
 Austausch und neue Perspektiven .  \n**Wjaselimy se na Was – wir freuen 
 uns auf euch.**\n
CATEGORIES:Einzelveranstaltung,Workshop / Seminar
LOCATION:COCO - Stadtlabor Commoning Cottbus\, Burgstraße  21/22\, Cottbus
 \, 03046\, Brandenburg\, Deutschland
GEO:51.7585497;14.334991
X-APPLE-STRUCTURED-LOCATION;VALUE=URI;X-ADDRESS=Burgstraße  21/22\, Cottbu
 s\, 03046\, Brandenburg\, Deutschland;X-APPLE-RADIUS=100;X-TITLE=COCO - St
 adtlabor Commoning Cottbus:geo:51.7585497,14.334991
END:VEVENT
BEGIN:VTIMEZONE
TZID:Europe/Berlin
X-LIC-LOCATION:Europe/Berlin
BEGIN:STANDARD
DTSTART:20251026T020000
TZOFFSETFROM:+0200
TZOFFSETTO:+0100
TZNAME:CET
END:STANDARD
END:VTIMEZONE
END:VCALENDAR