BEGIN:VCALENDAR
VERSION:2.0
PRODID:-//wp-events-plugin.com//7.0.5//EN
TZID:Europe/Berlin
X-WR-TIMEZONE:Europe/Berlin
BEGIN:VEVENT
UID:30268@cottbus.de
DTSTART;TZID=Europe/Berlin:20260422T200000
DTEND;TZID=Europe/Berlin:20260422T220000
DTSTAMP:20260420T082822Z
URL:https://cottbus.de/veranstaltungen/father-mother-sister-brother-obenki
 no-cottbus-2/
SUMMARY:FATHER MOTHER SISTER BROTHER - Obenkino Cottbus
DESCRIPTION:US\, FR\, IE 2025 | 110 Min | FSK: 12 | Buch &amp\; Regie: Jim 
 Jarmusch | DarstellerInnen: Tom Waits\, Adam Driver\, Mayim Bialik\, Charl
 otte Rampling\, Cate Blanchett\, Vicky Krieps\nEin behutsam als Triptychon
  komponierter Spielfilm. Die drei Geschichten kreisen um die Beziehungen e
 rwachsener Kinder zu ihren teils distanzierten Eltern und untereinander. J
 edes der drei Kapitel spielt in der Gegenwart\, jedes in einem anderen Lan
 d:\nFATHER ist im Nordosten der USA angesiedelt\, MOTHER in Dublin und SIS
 TER BROTHER in Paris. Es ist eine Reihe von Charakterstudien\, ruhig\, beo
 bachtend und ohne Wertung – und zugleich eine Komödie\, durchzogen von 
 feinen Fäden der Melancholie.\n\nIn seinem neuesten Geniestreich lässt R
 egie-Ikone Jim Jarmusch den hochkarätigen Cast die Untiefen familiärer B
 eziehungen ausloten. Der Film wurde bei den Filmfestspielen von Venedig mi
 t dem Goldenen Löwen ausgezeichnet.\n\n„Ein leiser\, humorvoller und em
 otional nachwirkender Film auf die Familie des 21.Jahrhundert.“\nKinomei
 ster
ATTACH;FMTTYPE=image/jpeg:https://cottbus.de/wp-content/uploads/2024/12/73
 5e642a7c2e51e222de2d5fb7957c24d6c6e6df50e08d58639ce3e8553d9f86-scaled.jpg
CATEGORIES:Cottbus,Einzelveranstaltung,Film
LOCATION:Obenkino\, Straße der Jugend 16\, Cottbus\, 03046\, Brandenburg\,
  Deutschland
GEO:51.754318;14.333652
X-APPLE-STRUCTURED-LOCATION;VALUE=URI;X-ADDRESS=Straße der Jugend 16\, Cot
 tbus\, 03046\, Brandenburg\, Deutschland;X-APPLE-RADIUS=100;X-TITLE=Obenki
 no:geo:51.754318,14.333652
END:VEVENT
BEGIN:VTIMEZONE
TZID:Europe/Berlin
X-LIC-LOCATION:Europe/Berlin
BEGIN:DAYLIGHT
DTSTART:20260329T030000
TZOFFSETFROM:+0100
TZOFFSETTO:+0200
TZNAME:CEST
END:DAYLIGHT
END:VTIMEZONE
END:VCALENDAR