BEGIN:VCALENDAR
VERSION:2.0
PRODID:-//wp-events-plugin.com//7.0.5//EN
TZID:Europe/Berlin
X-WR-TIMEZONE:Europe/Berlin
BEGIN:VEVENT
UID:30309@cottbus.de
DTSTART;TZID=Europe/Berlin:20260826T183000
DTEND;TZID=Europe/Berlin:20260826T203000
DTSTAMP:20260420T102352Z
URL:https://cottbus.de/veranstaltungen/die-welt-ist-schwingung-von-der-res
 onanz-des-wassers-konzert-cottbus/
SUMMARY:Die Welt ist Schwingung – Von der Resonanz des Wassers - Konzert 
 - Cottbus
DESCRIPTION:Daan Wilms (Percussion)\, Laura Heinecke &amp\; Company (Tanz)\
 nIn Kooperation mit der LWG
ATTACH;FMTTYPE=image/jpeg:https://cottbus.de/wp-content/uploads/2026/04/al
 les.jpg
LOCATION:Gelände am Wasserturm der LWG\, Saarbrücker Straße 30\, Cottbus
 \, Brandenburg\, 03048\, Lausitz\, Deutschland
X-APPLE-STRUCTURED-LOCATION;VALUE=URI;X-ADDRESS=Saarbrücker Straße 30\, C
 ottbus\, Brandenburg\, 03048\, Lausitz\, Deutschland;X-APPLE-RADIUS=100;X-
 TITLE=Gelände am Wasserturm der LWG:geo:0,0
END:VEVENT
BEGIN:VTIMEZONE
TZID:Europe/Berlin
X-LIC-LOCATION:Europe/Berlin
BEGIN:DAYLIGHT
DTSTART:20260329T030000
TZOFFSETFROM:+0100
TZOFFSETTO:+0200
TZNAME:CEST
END:DAYLIGHT
END:VTIMEZONE
END:VCALENDAR